BEGIN:VCALENDAR
VERSION:2.0
PRODID:-//Scotland Run Golf Club - ECPv6.15.20//NONSGML v1.0//EN
CALSCALE:GREGORIAN
METHOD:PUBLISH
X-WR-CALNAME:Scotland Run Golf Club
X-ORIGINAL-URL:https://scotlandrun.com
X-WR-CALDESC:Events for Scotland Run Golf Club
REFRESH-INTERVAL;VALUE=DURATION:PT1H
X-Robots-Tag:noindex
X-PUBLISHED-TTL:PT1H
BEGIN:VTIMEZONE
TZID:UTC
BEGIN:STANDARD
TZOFFSETFROM:+0000
TZOFFSETTO:+0000
TZNAME:UTC
DTSTART:20240101T000000
END:STANDARD
END:VTIMEZONE
BEGIN:VEVENT
DTSTART;TZID=UTC:20250823T110000
DTEND;TZID=UTC:20250823T110000
DTSTAMP:20260421T103718
CREATED:20250618T170557Z
LAST-MODIFIED:20250618T170557Z
UID:10000651-1755946800-1755946800@scotlandrun.com
SUMMARY:Highlander Is Open From 11AM
DESCRIPTION:
URL:https://scotlandrun.com/event/highlander-is-open-from-11am-16-5-13/
END:VEVENT
BEGIN:VEVENT
DTSTART;TZID=UTC:20250822T190000
DTEND;TZID=UTC:20250822T190000
DTSTAMP:20260421T103718
CREATED:20250728T140744Z
LAST-MODIFIED:20250728T140744Z
UID:10000665-1755889200-1755889200@scotlandrun.com
SUMMARY:Kim Montalvo
DESCRIPTION:
URL:https://scotlandrun.com/event/kim-montalvo/
ATTACH;FMTTYPE=image/jpeg:https://scotlandrun.com/wp-content/uploads/2025/05/Live-Music-on-the-Patio-2025_1600x900.jpg
END:VEVENT
BEGIN:VEVENT
DTSTART;TZID=UTC:20250822T110000
DTEND;TZID=UTC:20250822T110000
DTSTAMP:20260421T103718
CREATED:20250618T170544Z
LAST-MODIFIED:20250618T170544Z
UID:10000650-1755860400-1755860400@scotlandrun.com
SUMMARY:Highlander Is Open From 11AM
DESCRIPTION:
URL:https://scotlandrun.com/event/highlander-is-open-from-11am-16-5-12/
END:VEVENT
BEGIN:VEVENT
DTSTART;TZID=UTC:20250821T160000
DTEND;TZID=UTC:20250821T173000
DTSTAMP:20260421T103718
CREATED:20250618T165346Z
LAST-MODIFIED:20250618T165346Z
UID:10000623-1755792000-1755797400@scotlandrun.com
SUMMARY:Social Hour
DESCRIPTION:
URL:https://scotlandrun.com/event/social-hour-15-2-3-4-4-4-4-2-3-4-4/
END:VEVENT
BEGIN:VEVENT
DTSTART;TZID=UTC:20250821T120000
DTEND;TZID=UTC:20250821T120000
DTSTAMP:20260421T103718
CREATED:20250618T164653Z
LAST-MODIFIED:20250618T164653Z
UID:10000596-1755777600-1755777600@scotlandrun.com
SUMMARY:Highlander Is Open From 12PM
DESCRIPTION:
URL:https://scotlandrun.com/event/highlander-is-open-from-12pm-90-2-3-4-4-4-4-2-2-5-4/
END:VEVENT
BEGIN:VEVENT
DTSTART;TZID=UTC:20250820T160000
DTEND;TZID=UTC:20250820T173000
DTSTAMP:20260421T103718
CREATED:20250618T165335Z
LAST-MODIFIED:20250618T165335Z
UID:10000622-1755705600-1755711000@scotlandrun.com
SUMMARY:Social Hour
DESCRIPTION:
URL:https://scotlandrun.com/event/social-hour-15-2-3-4-4-4-4-2-3-4-3/
END:VEVENT
BEGIN:VEVENT
DTSTART;TZID=UTC:20250820T120000
DTEND;TZID=UTC:20250820T120000
DTSTAMP:20260421T103718
CREATED:20250618T164618Z
LAST-MODIFIED:20250618T164618Z
UID:10000595-1755691200-1755691200@scotlandrun.com
SUMMARY:Highlander Is Open From 12PM
DESCRIPTION:
URL:https://scotlandrun.com/event/highlander-is-open-from-12pm-90-2-3-4-4-4-4-2-2-5-3/
END:VEVENT
BEGIN:VEVENT
DTSTART;VALUE=DATE:20250820
DTEND;VALUE=DATE:20250821
DTSTAMP:20260421T103718
CREATED:20250618T170115Z
LAST-MODIFIED:20250701T175306Z
UID:10000634-1755648000-1755734399@scotlandrun.com
SUMMARY:Members' Night
DESCRIPTION:Featuring rotating specials and discounts for your family and friends. Open to all Golf and Social Members.
URL:https://scotlandrun.com/event/members-night-14-2-4-9/
END:VEVENT
BEGIN:VEVENT
DTSTART;TZID=UTC:20250819T160000
DTEND;TZID=UTC:20250819T173000
DTSTAMP:20260421T103718
CREATED:20250618T165320Z
LAST-MODIFIED:20250618T165320Z
UID:10000621-1755619200-1755624600@scotlandrun.com
SUMMARY:Social Hour
DESCRIPTION:
URL:https://scotlandrun.com/event/social-hour-15-2-3-4-4-4-4-2-3-4-2/
END:VEVENT
BEGIN:VEVENT
DTSTART;TZID=UTC:20250819T120000
DTEND;TZID=UTC:20250819T120000
DTSTAMP:20260421T103718
CREATED:20250618T164606Z
LAST-MODIFIED:20250618T164606Z
UID:10000594-1755604800-1755604800@scotlandrun.com
SUMMARY:Highlander Is Open From 12PM
DESCRIPTION:
URL:https://scotlandrun.com/event/highlander-is-open-from-12pm-90-2-3-4-4-4-4-2-2-5-2/
END:VEVENT
BEGIN:VEVENT
DTSTART;VALUE=DATE:20250818
DTEND;VALUE=DATE:20250819
DTSTAMP:20260421T103718
CREATED:20250618T163444Z
LAST-MODIFIED:20250618T163444Z
UID:10000571-1755475200-1755561599@scotlandrun.com
SUMMARY:Highlander is Closed
DESCRIPTION:
URL:https://scotlandrun.com/event/highlander-is-closed-18-2-2-3-2-3/
END:VEVENT
BEGIN:VEVENT
DTSTART;TZID=UTC:20250817T140000
DTEND;TZID=UTC:20250817T140000
DTSTAMP:20260421T103718
CREATED:20250618T163213Z
LAST-MODIFIED:20250618T163213Z
UID:10000562-1755439200-1755439200@scotlandrun.com
SUMMARY:Dinner from 2PM
DESCRIPTION:
URL:https://scotlandrun.com/event/dinner-from-2pm-8-3-2-3-2-2/
END:VEVENT
BEGIN:VEVENT
DTSTART;TZID=UTC:20250817T100000
DTEND;TZID=UTC:20250817T140000
DTSTAMP:20260421T103718
CREATED:20250618T162847Z
LAST-MODIFIED:20250618T162847Z
UID:10000553-1755424800-1755439200@scotlandrun.com
SUMMARY:Sunday Brunch
DESCRIPTION:Every Sunday | $39\nAdults Receive One Complimentary Mimosa!
URL:https://scotlandrun.com/event/sunday-brunch-4-2-4-3/
END:VEVENT
BEGIN:VEVENT
DTSTART;TZID=UTC:20250816T190000
DTEND;TZID=UTC:20250816T190000
DTSTAMP:20260421T103718
CREATED:20250728T140446Z
LAST-MODIFIED:20250728T140446Z
UID:10000664-1755370800-1755370800@scotlandrun.com
SUMMARY:Jay Gentile
DESCRIPTION:Jay Gentile is a solo artist performing all the Classic Hits.
URL:https://scotlandrun.com/event/jay-gentile-sept-13-2-2-2-2/
ATTACH;FMTTYPE=image/png:https://scotlandrun.com/wp-content/uploads/2025/04/Jay-Gentile_1600x900.png
END:VEVENT
BEGIN:VEVENT
DTSTART;TZID=UTC:20250816T110000
DTEND;TZID=UTC:20250816T110000
DTSTAMP:20260421T103718
CREATED:20250618T170530Z
LAST-MODIFIED:20250618T170530Z
UID:10000649-1755342000-1755342000@scotlandrun.com
SUMMARY:Highlander Is Open From 11AM
DESCRIPTION:
URL:https://scotlandrun.com/event/highlander-is-open-from-11am-16-5-11/
END:VEVENT
BEGIN:VEVENT
DTSTART;TZID=UTC:20250815T190000
DTEND;TZID=UTC:20250815T220000
DTSTAMP:20260421T103718
CREATED:20250729T145127Z
LAST-MODIFIED:20250731T142808Z
UID:10000670-1755284400-1755295200@scotlandrun.com
SUMMARY:Matt DiVenti
DESCRIPTION:Matt DiVenti\n7pm – 10pm\nListener’s will hear influences from writers of feel-good classics\, like Jack Johnson\, Gin Blossoms\, and George Harrison.
URL:https://scotlandrun.com/event/matt-diventi-2/
ATTACH;FMTTYPE=image/jpeg:https://scotlandrun.com/wp-content/uploads/2025/07/Matt-DiVenti.jpg
END:VEVENT
BEGIN:VEVENT
DTSTART;TZID=UTC:20250815T110000
DTEND;TZID=UTC:20250815T110000
DTSTAMP:20260421T103718
CREATED:20250618T170516Z
LAST-MODIFIED:20250618T170516Z
UID:10000648-1755255600-1755255600@scotlandrun.com
SUMMARY:Highlander Is Open From 11AM
DESCRIPTION:
URL:https://scotlandrun.com/event/highlander-is-open-from-11am-16-5-10/
END:VEVENT
BEGIN:VEVENT
DTSTART;TZID=UTC:20250814T160000
DTEND;TZID=UTC:20250814T173000
DTSTAMP:20260421T103718
CREATED:20250618T165308Z
LAST-MODIFIED:20250618T165308Z
UID:10000620-1755187200-1755192600@scotlandrun.com
SUMMARY:Social Hour
DESCRIPTION:
URL:https://scotlandrun.com/event/social-hour-15-2-3-4-4-4-4-2-3-4/
END:VEVENT
BEGIN:VEVENT
DTSTART;TZID=UTC:20250814T120000
DTEND;TZID=UTC:20250814T120000
DTSTAMP:20260421T103718
CREATED:20250618T164511Z
LAST-MODIFIED:20250618T164511Z
UID:10000593-1755172800-1755172800@scotlandrun.com
SUMMARY:Highlander Is Open From 12PM
DESCRIPTION:
URL:https://scotlandrun.com/event/highlander-is-open-from-12pm-90-2-3-4-4-4-4-2-2-5/
END:VEVENT
BEGIN:VEVENT
DTSTART;TZID=UTC:20250813T160000
DTEND;TZID=UTC:20250813T173000
DTSTAMP:20260421T103718
CREATED:20250618T165257Z
LAST-MODIFIED:20250618T165257Z
UID:10000619-1755100800-1755106200@scotlandrun.com
SUMMARY:Social Hour
DESCRIPTION:
URL:https://scotlandrun.com/event/social-hour-15-2-3-4-4-4-4-2-3-3/
END:VEVENT
BEGIN:VEVENT
DTSTART;TZID=UTC:20250813T120000
DTEND;TZID=UTC:20250813T120000
DTSTAMP:20260421T103718
CREATED:20250618T164459Z
LAST-MODIFIED:20250618T164459Z
UID:10000592-1755086400-1755086400@scotlandrun.com
SUMMARY:Highlander Is Open From 12PM
DESCRIPTION:
URL:https://scotlandrun.com/event/highlander-is-open-from-12pm-90-2-3-4-4-4-4-2-2-4/
END:VEVENT
BEGIN:VEVENT
DTSTART;VALUE=DATE:20250813
DTEND;VALUE=DATE:20250814
DTSTAMP:20260421T103718
CREATED:20250618T170103Z
LAST-MODIFIED:20250701T175256Z
UID:10000633-1755043200-1755129599@scotlandrun.com
SUMMARY:Members' Night
DESCRIPTION:Featuring rotating specials and discounts for your family and friends. Open to all Golf and Social Members.
URL:https://scotlandrun.com/event/members-night-14-2-4-8/
END:VEVENT
BEGIN:VEVENT
DTSTART;TZID=UTC:20250812T160000
DTEND;TZID=UTC:20250812T173000
DTSTAMP:20260421T103718
CREATED:20250618T165248Z
LAST-MODIFIED:20250618T165248Z
UID:10000618-1755014400-1755019800@scotlandrun.com
SUMMARY:Social Hour
DESCRIPTION:
URL:https://scotlandrun.com/event/social-hour-15-2-3-4-4-4-4-2-3-2/
END:VEVENT
BEGIN:VEVENT
DTSTART;TZID=UTC:20250812T120000
DTEND;TZID=UTC:20250812T120000
DTSTAMP:20260421T103718
CREATED:20250618T164445Z
LAST-MODIFIED:20250618T164445Z
UID:10000591-1755000000-1755000000@scotlandrun.com
SUMMARY:Highlander Is Open From 12PM
DESCRIPTION:
URL:https://scotlandrun.com/event/highlander-is-open-from-12pm-90-2-3-4-4-4-4-2-2-3/
END:VEVENT
BEGIN:VEVENT
DTSTART;VALUE=DATE:20250811
DTEND;VALUE=DATE:20250812
DTSTAMP:20260421T103718
CREATED:20250618T163434Z
LAST-MODIFIED:20250618T163434Z
UID:10000570-1754870400-1754956799@scotlandrun.com
SUMMARY:Highlander is Closed
DESCRIPTION:
URL:https://scotlandrun.com/event/highlander-is-closed-18-2-2-3-2-2/
END:VEVENT
BEGIN:VEVENT
DTSTART;TZID=UTC:20250810T140000
DTEND;TZID=UTC:20250810T140000
DTSTAMP:20260421T103718
CREATED:20250618T163120Z
LAST-MODIFIED:20250618T163120Z
UID:10000561-1754834400-1754834400@scotlandrun.com
SUMMARY:Dinner from 2PM
DESCRIPTION:
URL:https://scotlandrun.com/event/dinner-from-2pm-8-3-2-3-2/
END:VEVENT
BEGIN:VEVENT
DTSTART;TZID=UTC:20250810T100000
DTEND;TZID=UTC:20250810T140000
DTSTAMP:20260421T103718
CREATED:20250618T162838Z
LAST-MODIFIED:20250618T162838Z
UID:10000552-1754820000-1754834400@scotlandrun.com
SUMMARY:Sunday Brunch
DESCRIPTION:Every Sunday | $39\nAdults Receive One Complimentary Mimosa!
URL:https://scotlandrun.com/event/sunday-brunch-4-2-4-2/
END:VEVENT
BEGIN:VEVENT
DTSTART;TZID=UTC:20250810T090000
DTEND;TZID=UTC:20250810T090000
DTSTAMP:20260421T103718
CREATED:20250804T193547Z
LAST-MODIFIED:20250804T193547Z
UID:10000672-1754816400-1754816400@scotlandrun.com
SUMMARY:Pilates & Prosecco
DESCRIPTION:PILATES BRUNCHAUGUST 10 | 1-Hour Pilates Session 9am \n\nJoin us for our monthly Yoga Sunday Brunch Events. Grab your friends and get ready to start your Sunday funday off right! \n\nEACH EVENT INCLUDES \n1-hour Pilates session\, water bottles\, complimentary mimosas\, and Sunday Brunch in the Highlander! \n\nPRICE \n$45 Per PersonIncludes Tax & Gratuity | Bring your own mat \nCLICK HERE TO GET TICKETS
URL:https://scotlandrun.com/event/pilates-prosecco-2/
ATTACH;FMTTYPE=image/jpeg:https://scotlandrun.com/wp-content/uploads/2025/05/SRB2057-Sip-Stretch-_-Pilates-Prosecco-_-2025-Summer-Series_Web_1600x900.jpg
END:VEVENT
BEGIN:VEVENT
DTSTART;TZID=UTC:20250809T183000
DTEND;TZID=UTC:20250809T183000
DTSTAMP:20260421T103718
CREATED:20250728T140333Z
LAST-MODIFIED:20250728T140401Z
UID:10000663-1754764200-1754764200@scotlandrun.com
SUMMARY:Lisa & Joe
DESCRIPTION:Outstanding Musical Entertainment
URL:https://scotlandrun.com/event/lisa-joe-2-3-2/
ATTACH;FMTTYPE=image/jpeg:https://scotlandrun.com/wp-content/uploads/2025/05/Live-Music-on-the-Patio-2025_1600x900.jpg
END:VEVENT
BEGIN:VEVENT
DTSTART;TZID=UTC:20250809T110000
DTEND;TZID=UTC:20250809T110000
DTSTAMP:20260421T103718
CREATED:20250618T170456Z
LAST-MODIFIED:20250618T170456Z
UID:10000647-1754737200-1754737200@scotlandrun.com
SUMMARY:Highlander Is Open From 11AM
DESCRIPTION:
URL:https://scotlandrun.com/event/highlander-is-open-from-11am-16-5-9/
END:VEVENT
END:VCALENDAR