BEGIN:VCALENDAR
VERSION:2.0
PRODID:-//Scotland Run Golf Club - ECPv6.15.20//NONSGML v1.0//EN
CALSCALE:GREGORIAN
METHOD:PUBLISH
X-WR-CALNAME:Scotland Run Golf Club
X-ORIGINAL-URL:https://scotlandrun.com
X-WR-CALDESC:Events for Scotland Run Golf Club
REFRESH-INTERVAL;VALUE=DURATION:PT1H
X-Robots-Tag:noindex
X-PUBLISHED-TTL:PT1H
BEGIN:VTIMEZONE
TZID:UTC
BEGIN:STANDARD
TZOFFSETFROM:+0000
TZOFFSETTO:+0000
TZNAME:UTC
DTSTART:20230101T000000
END:STANDARD
END:VTIMEZONE
BEGIN:VEVENT
DTSTART;TZID=UTC:20241017T160000
DTEND;TZID=UTC:20241017T173000
DTSTAMP:20260422T195238
CREATED:20241001T170230Z
LAST-MODIFIED:20241001T170230Z
UID:10000052-1729180800-1729186200@scotlandrun.com
SUMMARY:Happy Hour
DESCRIPTION:
URL:https://scotlandrun.com/event/happy-hour-copy-10/
END:VEVENT
BEGIN:VEVENT
DTSTART;TZID=UTC:20241017T120000
DTEND;TZID=UTC:20241017T120000
DTSTAMP:20260422T195238
CREATED:20241010T194820Z
LAST-MODIFIED:20241010T194820Z
UID:10000070-1729166400-1729166400@scotlandrun.com
SUMMARY:Highlander Is Open From 12PM
DESCRIPTION:
URL:https://scotlandrun.com/event/highlander-is-open-from-12pm-6/
END:VEVENT
BEGIN:VEVENT
DTSTART;TZID=UTC:20241016T160000
DTEND;TZID=UTC:20241016T173000
DTSTAMP:20260422T195238
CREATED:20241001T170217Z
LAST-MODIFIED:20241001T170217Z
UID:10000051-1729094400-1729099800@scotlandrun.com
SUMMARY:Happy Hour
DESCRIPTION:
URL:https://scotlandrun.com/event/happy-hour-copy-9/
END:VEVENT
BEGIN:VEVENT
DTSTART;TZID=UTC:20241016T120000
DTEND;TZID=UTC:20241016T120000
DTSTAMP:20260422T195238
CREATED:20241010T194807Z
LAST-MODIFIED:20241010T194807Z
UID:10000069-1729080000-1729080000@scotlandrun.com
SUMMARY:Highlander Is Open From 12PM
DESCRIPTION:
URL:https://scotlandrun.com/event/highlander-is-open-from-12pm-5/
END:VEVENT
BEGIN:VEVENT
DTSTART;TZID=UTC:20241015T160000
DTEND;TZID=UTC:20241015T173000
DTSTAMP:20260422T195238
CREATED:20241001T170205Z
LAST-MODIFIED:20241001T170205Z
UID:10000050-1729008000-1729013400@scotlandrun.com
SUMMARY:Happy Hour
DESCRIPTION:
URL:https://scotlandrun.com/event/happy-hour-copy-8/
END:VEVENT
BEGIN:VEVENT
DTSTART;TZID=UTC:20241015T120000
DTEND;TZID=UTC:20241015T120000
DTSTAMP:20260422T195238
CREATED:20241010T194755Z
LAST-MODIFIED:20241010T194755Z
UID:10000068-1728993600-1728993600@scotlandrun.com
SUMMARY:Highlander Is Open From 12PM
DESCRIPTION:
URL:https://scotlandrun.com/event/highlander-is-open-from-12pm-4/
END:VEVENT
BEGIN:VEVENT
DTSTART;VALUE=DATE:20241015
DTEND;VALUE=DATE:20241016
DTSTAMP:20260422T195238
CREATED:20240926T160544Z
LAST-MODIFIED:20240926T160544Z
UID:10000039-1728950400-1729036799@scotlandrun.com
SUMMARY:Members' Night
DESCRIPTION:Featuring rotating specials and discounts for your family and friends. Open to all Golf and Social Members
URL:https://scotlandrun.com/event/members-night-5/
END:VEVENT
BEGIN:VEVENT
DTSTART;VALUE=DATE:20241014
DTEND;VALUE=DATE:20241015
DTSTAMP:20260422T195238
CREATED:20241010T194218Z
LAST-MODIFIED:20241010T194228Z
UID:10000062-1728864000-1728950399@scotlandrun.com
SUMMARY:Highlander is Closed
DESCRIPTION:
URL:https://scotlandrun.com/event/highlander-is-closed/
END:VEVENT
BEGIN:VEVENT
DTSTART;TZID=UTC:20241013T100000
DTEND;TZID=UTC:20241013T150000
DTSTAMP:20260422T195238
CREATED:20240926T160228Z
LAST-MODIFIED:20240926T160228Z
UID:10000034-1728813600-1728831600@scotlandrun.com
SUMMARY:All-You-Can-Eat Sunday Brunch
DESCRIPTION:
URL:https://scotlandrun.com/event/all-you-can-eat-sunday-brunch-4/
END:VEVENT
BEGIN:VEVENT
DTSTART;TZID=UTC:20241012T120000
DTEND;TZID=UTC:20241012T120000
DTSTAMP:20260422T195238
CREATED:20241010T194726Z
LAST-MODIFIED:20241010T194726Z
UID:10000067-1728734400-1728734400@scotlandrun.com
SUMMARY:Highlander Is Open From 12PM
DESCRIPTION:
URL:https://scotlandrun.com/event/highlander-is-open-from-12pm-3/
END:VEVENT
BEGIN:VEVENT
DTSTART;TZID=UTC:20241011T180000
DTEND;TZID=UTC:20241011T180000
DTSTAMP:20260422T195238
CREATED:20240923T162809Z
LAST-MODIFIED:20240923T172023Z
UID:10000029-1728669600-1728669600@scotlandrun.com
SUMMARY:Scotland Run's Got Talent
DESCRIPTION:Hosted by Gina & Steve
URL:https://scotlandrun.com/event/scotland-runs-got-talent/
ATTACH;FMTTYPE=image/jpeg:https://scotlandrun.com/wp-content/uploads/2024/09/SRB1081-Scotland-Runs-Got-Talent_Web-Calendar_1600x900.jpg
END:VEVENT
BEGIN:VEVENT
DTSTART;TZID=UTC:20241011T160000
DTEND;TZID=UTC:20241011T173000
DTSTAMP:20260422T195238
CREATED:20241001T170134Z
LAST-MODIFIED:20241001T170134Z
UID:10000049-1728662400-1728667800@scotlandrun.com
SUMMARY:Happy Hour
DESCRIPTION:
URL:https://scotlandrun.com/event/happy-hour-copy-7/
END:VEVENT
BEGIN:VEVENT
DTSTART;TZID=UTC:20241011T120000
DTEND;TZID=UTC:20241011T120000
DTSTAMP:20260422T195238
CREATED:20241010T194709Z
LAST-MODIFIED:20241010T194709Z
UID:10000066-1728648000-1728648000@scotlandrun.com
SUMMARY:Highlander Is Open From 12PM
DESCRIPTION:
URL:https://scotlandrun.com/event/highlander-is-open-from-12pm-2/
END:VEVENT
BEGIN:VEVENT
DTSTART;TZID=UTC:20241010T160000
DTEND;TZID=UTC:20241010T173000
DTSTAMP:20260422T195238
CREATED:20241001T170122Z
LAST-MODIFIED:20241001T170122Z
UID:10000048-1728576000-1728581400@scotlandrun.com
SUMMARY:Happy Hour
DESCRIPTION:
URL:https://scotlandrun.com/event/happy-hour-copy-6/
END:VEVENT
BEGIN:VEVENT
DTSTART;TZID=UTC:20241010T120000
DTEND;TZID=UTC:20241010T120000
DTSTAMP:20260422T195238
CREATED:20241010T194501Z
LAST-MODIFIED:20241010T194501Z
UID:10000065-1728561600-1728561600@scotlandrun.com
SUMMARY:Highlander Is Open From 12PM
DESCRIPTION:
URL:https://scotlandrun.com/event/highlander-is-open-from-12pm/
END:VEVENT
BEGIN:VEVENT
DTSTART;TZID=UTC:20241009T160000
DTEND;TZID=UTC:20241009T173000
DTSTAMP:20260422T195238
CREATED:20241001T170111Z
LAST-MODIFIED:20241001T170111Z
UID:10000047-1728489600-1728495000@scotlandrun.com
SUMMARY:Happy Hour
DESCRIPTION:
URL:https://scotlandrun.com/event/happy-hour-copy-5/
END:VEVENT
BEGIN:VEVENT
DTSTART;TZID=UTC:20241008T160000
DTEND;TZID=UTC:20241008T173000
DTSTAMP:20260422T195238
CREATED:20241001T170059Z
LAST-MODIFIED:20241001T170059Z
UID:10000046-1728403200-1728408600@scotlandrun.com
SUMMARY:Happy Hour
DESCRIPTION:
URL:https://scotlandrun.com/event/happy-hour-copy-4/
END:VEVENT
BEGIN:VEVENT
DTSTART;VALUE=DATE:20241008
DTEND;VALUE=DATE:20241009
DTSTAMP:20260422T195238
CREATED:20240926T160508Z
LAST-MODIFIED:20240926T160508Z
UID:10000038-1728345600-1728431999@scotlandrun.com
SUMMARY:Members' Night
DESCRIPTION:Featuring rotating specials and discounts for your family and friends. Open to all Golf and Social Members
URL:https://scotlandrun.com/event/members-night-4/
END:VEVENT
BEGIN:VEVENT
DTSTART;TZID=UTC:20241006T100000
DTEND;TZID=UTC:20241006T150000
DTSTAMP:20260422T195238
CREATED:20240926T160218Z
LAST-MODIFIED:20240926T160218Z
UID:10000033-1728208800-1728226800@scotlandrun.com
SUMMARY:All-You-Can-Eat Sunday Brunch
DESCRIPTION:
URL:https://scotlandrun.com/event/all-you-can-eat-sunday-brunch-3/
END:VEVENT
BEGIN:VEVENT
DTSTART;TZID=UTC:20241004T160000
DTEND;TZID=UTC:20241004T173000
DTSTAMP:20260422T195238
CREATED:20241001T170032Z
LAST-MODIFIED:20241001T170032Z
UID:10000045-1728057600-1728063000@scotlandrun.com
SUMMARY:Happy Hour
DESCRIPTION:
URL:https://scotlandrun.com/event/happy-hour-copy-3/
END:VEVENT
BEGIN:VEVENT
DTSTART;VALUE=DATE:20241004
DTEND;VALUE=DATE:20241005
DTSTAMP:20260422T195238
CREATED:20240923T172445Z
LAST-MODIFIED:20240923T172445Z
UID:10000032-1728000000-1728086399@scotlandrun.com
SUMMARY:Restaurant Closed for Member Event
DESCRIPTION:
URL:https://scotlandrun.com/event/restaurant-closed-for-member-event/
END:VEVENT
BEGIN:VEVENT
DTSTART;TZID=UTC:20241003T160000
DTEND;TZID=UTC:20241003T173000
DTSTAMP:20260422T195238
CREATED:20241001T170021Z
LAST-MODIFIED:20241001T170021Z
UID:10000044-1727971200-1727976600@scotlandrun.com
SUMMARY:Happy Hour
DESCRIPTION:
URL:https://scotlandrun.com/event/happy-hour-copy-2/
END:VEVENT
BEGIN:VEVENT
DTSTART;TZID=UTC:20241002T160000
DTEND;TZID=UTC:20241002T173000
DTSTAMP:20260422T195238
CREATED:20241001T155918Z
LAST-MODIFIED:20241001T160000Z
UID:10000042-1727884800-1727890200@scotlandrun.com
SUMMARY:Happy Hour
DESCRIPTION:
URL:https://scotlandrun.com/event/happy-hour/
END:VEVENT
BEGIN:VEVENT
DTSTART;TZID=UTC:20241001T160000
DTEND;TZID=UTC:20241001T173000
DTSTAMP:20260422T195238
CREATED:20241001T160037Z
LAST-MODIFIED:20241001T160051Z
UID:10000043-1727798400-1727803800@scotlandrun.com
SUMMARY:Happy Hour
DESCRIPTION:
URL:https://scotlandrun.com/event/happy-hour-copy/
END:VEVENT
BEGIN:VEVENT
DTSTART;VALUE=DATE:20241001
DTEND;VALUE=DATE:20241002
DTSTAMP:20260422T195238
CREATED:20240926T160439Z
LAST-MODIFIED:20240926T160439Z
UID:10000037-1727740800-1727827199@scotlandrun.com
SUMMARY:Members' Night
DESCRIPTION:Featuring rotating specials and discounts for your family and friends. Open to all Golf and Social Members
URL:https://scotlandrun.com/event/members-night-3/
END:VEVENT
BEGIN:VEVENT
DTSTART;TZID=UTC:20240929T100000
DTEND;TZID=UTC:20240929T140000
DTSTAMP:20260422T195238
CREATED:20240822T141932Z
LAST-MODIFIED:20240822T144804Z
UID:10000020-1727604000-1727618400@scotlandrun.com
SUMMARY:All-You-Can-Eat Sunday Brunch
DESCRIPTION:
URL:https://scotlandrun.com/event/all-you-can-eat-sunday-brunch/
END:VEVENT
BEGIN:VEVENT
DTSTART;TZID=UTC:20240928T180000
DTEND;TZID=UTC:20240928T180000
DTSTAMP:20260422T195238
CREATED:20240820T171712Z
LAST-MODIFIED:20240821T183426Z
UID:10000013-1727546400-1727546400@scotlandrun.com
SUMMARY:The Medicine Man
DESCRIPTION:Singer Songwriter with Acoustic covers of our favorite classic rock era singer songwriters\, and more!
URL:https://scotlandrun.com/event/the-medicine-man/
ATTACH;FMTTYPE=image/jpeg:https://scotlandrun.com/wp-content/uploads/2024/08/Medicine-Man_1600x900.jpg
END:VEVENT
BEGIN:VEVENT
DTSTART;TZID=UTC:20240927T190000
DTEND;TZID=UTC:20240927T190000
DTSTAMP:20260422T195238
CREATED:20240820T170555Z
LAST-MODIFIED:20240820T170555Z
UID:10000012-1727463600-1727463600@scotlandrun.com
SUMMARY:Nothin' But Gina & a Little Bit of Steve
DESCRIPTION:Nothing but Gina and a Little bit of Steve are based out of South Jersey.  Music to bring back memories from Classic Rock\, Motown\, Crooners\, Dance\, Disco\, Country\, Doo Wop and Classic Pop.  We have over 3500 songs and encourage you to have your requests ready.  Music and love collide.
URL:https://scotlandrun.com/event/joanie-schneider-experience-2-2-2-2-2/
ATTACH;FMTTYPE=image/jpeg:https://scotlandrun.com/wp-content/uploads/2024/08/Gina-Steve_web.jpg
END:VEVENT
BEGIN:VEVENT
DTSTART;VALUE=DATE:20240924
DTEND;VALUE=DATE:20240925
DTSTAMP:20260422T195238
CREATED:20240822T141819Z
LAST-MODIFIED:20240822T141819Z
UID:10000019-1727136000-1727222399@scotlandrun.com
SUMMARY:Members' Night
DESCRIPTION:Open To All Golf + Social Members
URL:https://scotlandrun.com/event/members-night-2-4/
END:VEVENT
BEGIN:VEVENT
DTSTART;TZID=UTC:20240922T100000
DTEND;TZID=UTC:20240922T140000
DTSTAMP:20260422T195238
CREATED:20240822T142145Z
LAST-MODIFIED:20240822T144851Z
UID:10000024-1726999200-1727013600@scotlandrun.com
SUMMARY:All-You-Can-Eat Sunday Brunch
DESCRIPTION:
URL:https://scotlandrun.com/event/all-you-can-eat-sunday-brunch-2-4/
END:VEVENT
END:VCALENDAR