BEGIN:VCALENDAR
VERSION:2.0
PRODID:-//Scotland Run Golf Club - ECPv6.15.20//NONSGML v1.0//EN
CALSCALE:GREGORIAN
METHOD:PUBLISH
X-WR-CALNAME:Scotland Run Golf Club
X-ORIGINAL-URL:https://scotlandrun.com
X-WR-CALDESC:Events for Scotland Run Golf Club
REFRESH-INTERVAL;VALUE=DURATION:PT1H
X-Robots-Tag:noindex
X-PUBLISHED-TTL:PT1H
BEGIN:VTIMEZONE
TZID:UTC
BEGIN:STANDARD
TZOFFSETFROM:+0000
TZOFFSETTO:+0000
TZNAME:UTC
DTSTART:20240101T000000
END:STANDARD
END:VTIMEZONE
BEGIN:VEVENT
DTSTART;TZID=UTC:20250930T160000
DTEND;TZID=UTC:20250930T173000
DTSTAMP:20260421T003201
CREATED:20250827T163254Z
LAST-MODIFIED:20250827T163254Z
UID:10000722-1759248000-1759253400@scotlandrun.com
SUMMARY:Social Hour
DESCRIPTION:
URL:https://scotlandrun.com/event/social-hour-28/
END:VEVENT
BEGIN:VEVENT
DTSTART;TZID=UTC:20250930T120000
DTEND;TZID=UTC:20250930T120000
DTSTAMP:20260421T003201
CREATED:20250827T162852Z
LAST-MODIFIED:20250827T162852Z
UID:10000709-1759233600-1759233600@scotlandrun.com
SUMMARY:Highlander Is Open From 12PM
DESCRIPTION:
URL:https://scotlandrun.com/event/highlander-is-open-from-12pm-102/
END:VEVENT
BEGIN:VEVENT
DTSTART;VALUE=DATE:20250929
DTEND;VALUE=DATE:20250930
DTSTAMP:20260421T003201
CREATED:20250827T162251Z
LAST-MODIFIED:20250827T162251Z
UID:10000696-1759104000-1759190399@scotlandrun.com
SUMMARY:Highlander is Closed
DESCRIPTION:
URL:https://scotlandrun.com/event/highlander-is-closed-23/
END:VEVENT
BEGIN:VEVENT
DTSTART;TZID=UTC:20250928T140000
DTEND;TZID=UTC:20250928T140000
DTSTAMP:20260421T003201
CREATED:20250827T160027Z
LAST-MODIFIED:20250903T140306Z
UID:10000691-1759068000-1759068000@scotlandrun.com
SUMMARY:Lunch & Dinner from 2PM
DESCRIPTION:
URL:https://scotlandrun.com/event/dinner-from-2pm-11/
END:VEVENT
BEGIN:VEVENT
DTSTART;TZID=UTC:20250928T100000
DTEND;TZID=UTC:20250928T140000
DTSTAMP:20260421T003201
CREATED:20250827T155904Z
LAST-MODIFIED:20250827T155904Z
UID:10000687-1759053600-1759068000@scotlandrun.com
SUMMARY:Sunday Brunch
DESCRIPTION:Every Sunday | $39\nAdults Receive One Complimentary Mimosa!
URL:https://scotlandrun.com/event/sunday-brunch-8/
END:VEVENT
BEGIN:VEVENT
DTSTART;TZID=UTC:20250927T183000
DTEND;TZID=UTC:20250927T183000
DTSTAMP:20260421T003201
CREATED:20250827T155009Z
LAST-MODIFIED:20250827T155009Z
UID:10000683-1758997800-1758997800@scotlandrun.com
SUMMARY:Jay Gentile
DESCRIPTION:Jay Gentile is a solo artist performing all the Classic Hits.
URL:https://scotlandrun.com/event/jay-gentile-sept-13-2-2-2-2-2/
ATTACH;FMTTYPE=image/png:https://scotlandrun.com/wp-content/uploads/2025/04/Jay-Gentile_1600x900.png
END:VEVENT
BEGIN:VEVENT
DTSTART;TZID=UTC:20250927T120000
DTEND;TZID=UTC:20250927T120000
DTSTAMP:20260421T003201
CREATED:20250827T163812Z
LAST-MODIFIED:20250903T135802Z
UID:10000734-1758974400-1758974400@scotlandrun.com
SUMMARY:Highlander Is Open From 12PM
DESCRIPTION:
URL:https://scotlandrun.com/event/highlander-is-open-from-11am-23/
END:VEVENT
BEGIN:VEVENT
DTSTART;TZID=UTC:20250926T190000
DTEND;TZID=UTC:20250926T190000
DTSTAMP:20260421T003201
CREATED:20250827T154942Z
LAST-MODIFIED:20250827T154942Z
UID:10000682-1758913200-1758913200@scotlandrun.com
SUMMARY:Nothin' But Gina & a Little Bit of Steve
DESCRIPTION:Nothing but Gina and a Little bit of Steve are based out of South Jersey.  Music to bring back memories from Classic Rock\, Motown\, Crooners\, Dance\, Disco\, Country\, Doo Wop and Classic Pop.  We have over 3500 songs and encourage you to have your requests ready.  Music and love collide.
URL:https://scotlandrun.com/event/nothin-but-gina-a-little-bit-of-steve-5-2-2-2-2/
ATTACH;FMTTYPE=image/jpeg:https://scotlandrun.com/wp-content/uploads/2024/08/Gina-Steve_web.jpg
END:VEVENT
BEGIN:VEVENT
DTSTART;TZID=UTC:20250926T120000
DTEND;TZID=UTC:20250926T120000
DTSTAMP:20260421T003201
CREATED:20250827T163759Z
LAST-MODIFIED:20250903T135814Z
UID:10000733-1758888000-1758888000@scotlandrun.com
SUMMARY:Highlander Is Open From 12PM
DESCRIPTION:
URL:https://scotlandrun.com/event/highlander-is-open-from-11am-22/
END:VEVENT
BEGIN:VEVENT
DTSTART;TZID=UTC:20250925T160000
DTEND;TZID=UTC:20250925T173000
DTSTAMP:20260421T003201
CREATED:20250827T163243Z
LAST-MODIFIED:20250827T163243Z
UID:10000721-1758816000-1758821400@scotlandrun.com
SUMMARY:Social Hour
DESCRIPTION:
URL:https://scotlandrun.com/event/social-hour-27/
END:VEVENT
BEGIN:VEVENT
DTSTART;TZID=UTC:20250925T120000
DTEND;TZID=UTC:20250925T120000
DTSTAMP:20260421T003201
CREATED:20250827T162825Z
LAST-MODIFIED:20250827T162825Z
UID:10000708-1758801600-1758801600@scotlandrun.com
SUMMARY:Highlander Is Open From 12PM
DESCRIPTION:
URL:https://scotlandrun.com/event/highlander-is-open-from-12pm-101/
END:VEVENT
BEGIN:VEVENT
DTSTART;TZID=UTC:20250924T160000
DTEND;TZID=UTC:20250924T173000
DTSTAMP:20260421T003201
CREATED:20250827T163229Z
LAST-MODIFIED:20250827T163229Z
UID:10000720-1758729600-1758735000@scotlandrun.com
SUMMARY:Social Hour
DESCRIPTION:
URL:https://scotlandrun.com/event/social-hour-26/
END:VEVENT
BEGIN:VEVENT
DTSTART;TZID=UTC:20250924T120000
DTEND;TZID=UTC:20250924T120000
DTSTAMP:20260421T003201
CREATED:20250827T162811Z
LAST-MODIFIED:20250827T162811Z
UID:10000707-1758715200-1758715200@scotlandrun.com
SUMMARY:Highlander Is Open From 12PM
DESCRIPTION:
URL:https://scotlandrun.com/event/highlander-is-open-from-12pm-100/
END:VEVENT
BEGIN:VEVENT
DTSTART;VALUE=DATE:20250924
DTEND;VALUE=DATE:20250925
DTSTAMP:20260421T003201
CREATED:20250827T163359Z
LAST-MODIFIED:20250827T180814Z
UID:10000726-1758672000-1758758399@scotlandrun.com
SUMMARY:Members' Night
DESCRIPTION:WEDNESDAY MEMBERS’ NIGHT\nPIZZA POCKET DEAL | $9 EACH\nPepperoni or Sausage & Pepper
URL:https://scotlandrun.com/event/members-night-17/
END:VEVENT
BEGIN:VEVENT
DTSTART;TZID=UTC:20250923T160000
DTEND;TZID=UTC:20250923T173000
DTSTAMP:20260421T003201
CREATED:20250827T163219Z
LAST-MODIFIED:20250827T163219Z
UID:10000719-1758643200-1758648600@scotlandrun.com
SUMMARY:Social Hour
DESCRIPTION:
URL:https://scotlandrun.com/event/social-hour-25/
END:VEVENT
BEGIN:VEVENT
DTSTART;TZID=UTC:20250923T120000
DTEND;TZID=UTC:20250923T120000
DTSTAMP:20260421T003201
CREATED:20250827T162800Z
LAST-MODIFIED:20250827T162800Z
UID:10000706-1758628800-1758628800@scotlandrun.com
SUMMARY:Highlander Is Open From 12PM
DESCRIPTION:
URL:https://scotlandrun.com/event/highlander-is-open-from-12pm-99/
END:VEVENT
BEGIN:VEVENT
DTSTART;VALUE=DATE:20250922
DTEND;VALUE=DATE:20250923
DTSTAMP:20260421T003201
CREATED:20250827T162232Z
LAST-MODIFIED:20250827T162232Z
UID:10000695-1758499200-1758585599@scotlandrun.com
SUMMARY:Highlander is Closed
DESCRIPTION:
URL:https://scotlandrun.com/event/highlander-is-closed-22/
END:VEVENT
BEGIN:VEVENT
DTSTART;TZID=UTC:20250921T140000
DTEND;TZID=UTC:20250921T140000
DTSTAMP:20260421T003201
CREATED:20250827T160015Z
LAST-MODIFIED:20250903T140312Z
UID:10000690-1758463200-1758463200@scotlandrun.com
SUMMARY:Lunch & Dinner from 2PM
DESCRIPTION:
URL:https://scotlandrun.com/event/dinner-from-2pm-10/
END:VEVENT
BEGIN:VEVENT
DTSTART;TZID=UTC:20250921T100000
DTEND;TZID=UTC:20250921T140000
DTSTAMP:20260421T003201
CREATED:20250827T155853Z
LAST-MODIFIED:20250827T155853Z
UID:10000686-1758448800-1758463200@scotlandrun.com
SUMMARY:Sunday Brunch
DESCRIPTION:Every Sunday | $39\nAdults Receive One Complimentary Mimosa!
URL:https://scotlandrun.com/event/sunday-brunch-7/
END:VEVENT
BEGIN:VEVENT
DTSTART;TZID=UTC:20250921T090000
DTEND;TZID=UTC:20250921T090000
DTSTAMP:20260421T003201
CREATED:20250602T173738Z
LAST-MODIFIED:20250828T192359Z
UID:10000542-1758445200-1758445200@scotlandrun.com
SUMMARY:Sip and Stretch
DESCRIPTION:YOGA BRUNCHSeptember 21st | 1-Hour Yoga Session 9am \n\nJoin us for our monthly Yoga Sunday Brunch Events. Grab your friends and get ready to start your Sunday funday off right! \n\nEACH EVENT INCLUDES \n1-hour Yoga session\, water bottles\, complimentary mimosas\, and Sunday Brunch in the Highlander! \n\nPRICE \n$45 Per PersonIncludes Tax & Gratuity | Bring your own mat \nCLICK HERE TO GET TICKETS \nGolf & Social Plus Members receive 10% Off.\nMembers can call the Highlander at 856-863-3737 ext. 2 to book.
URL:https://scotlandrun.com/event/sip-and-stretch-2-2/
ATTACH;FMTTYPE=image/jpeg:https://scotlandrun.com/wp-content/uploads/2025/05/SRB2057-Sip-Stretch-_-Pilates-Prosecco-_-2025-Summer-Series_Web_1600x900.jpg
END:VEVENT
BEGIN:VEVENT
DTSTART;TZID=UTC:20250920T183000
DTEND;TZID=UTC:20250920T183000
DTSTAMP:20260421T003201
CREATED:20250827T154856Z
LAST-MODIFIED:20250827T154856Z
UID:10000681-1758393000-1758393000@scotlandrun.com
SUMMARY:Mike Wilson
DESCRIPTION:Live Music on the Patio\nAcoustic Rock
URL:https://scotlandrun.com/event/mike-wilson-on-the-patio-3-2-2-2-2-2/
ATTACH;FMTTYPE=image/jpeg:https://scotlandrun.com/wp-content/uploads/2024/08/Mike-Wilson_web.jpg
END:VEVENT
BEGIN:VEVENT
DTSTART;TZID=UTC:20250920T120000
DTEND;TZID=UTC:20250920T120000
DTSTAMP:20260421T003201
CREATED:20250827T163740Z
LAST-MODIFIED:20250903T135441Z
UID:10000732-1758369600-1758369600@scotlandrun.com
SUMMARY:Highlander Is Open From 12PM
DESCRIPTION:
URL:https://scotlandrun.com/event/highlander-is-open-from-11am-21/
END:VEVENT
BEGIN:VEVENT
DTSTART;TZID=UTC:20250919T190000
DTEND;TZID=UTC:20250919T190000
DTSTAMP:20260421T003201
CREATED:20250827T154822Z
LAST-MODIFIED:20250827T154822Z
UID:10000680-1758308400-1758308400@scotlandrun.com
SUMMARY:Peter McCarthy
DESCRIPTION:Peter McCarthy is an accomplished guitarist\, bassist and vocalist with diverse experience playing in multiple bands and as a solo artist. From Pop to Jazz\, for over 35 years Peter has performed at many different venues nationwide.
URL:https://scotlandrun.com/event/peter-mccarthy-2-2-2-2-2-2/
ATTACH;FMTTYPE=image/jpeg:https://scotlandrun.com/wp-content/uploads/2024/08/Peter-McCarthy_web.jpg
END:VEVENT
BEGIN:VEVENT
DTSTART;TZID=UTC:20250919T120000
DTEND;TZID=UTC:20250919T120000
DTSTAMP:20260421T003201
CREATED:20250827T163728Z
LAST-MODIFIED:20250903T135450Z
UID:10000731-1758283200-1758283200@scotlandrun.com
SUMMARY:Highlander Is Open From 12PM
DESCRIPTION:
URL:https://scotlandrun.com/event/highlander-is-open-from-11am-20/
END:VEVENT
BEGIN:VEVENT
DTSTART;TZID=UTC:20250918T180000
DTEND;TZID=UTC:20250918T180000
DTSTAMP:20260421T003201
CREATED:20250616T171317Z
LAST-MODIFIED:20250821T194339Z
UID:10000546-1758218400-1758218400@scotlandrun.com
SUMMARY:Sip\, Snack & Shatter
DESCRIPTION:Sip\, Snack & Shatter\nA Summer Mosaic Experience\nThursday\, September 18 | 6PM \n\nDesign your own Mosaic and Indulge in a Gourmet Charcuterie Board and Summer Martini Flight.\n \nCharcuterie Board (Upon Arrival):\nVariety of Fine Cheeses\nSeasonal Fruits\, Jams & Spreads\nVariety of Artisan Breads\n\n\nTaste the Tiles: Martini Flight (upon Arrival):\nCitrus Mint Martini | vodka\, orange liqueur\, lemon juice and muddled mint leaves\nPeach Thyme Martini | peach puree\, vodka\, thyme simple syrup\, topped with a thyme sprig\nBlueberry Martini | vodka\, lemon juice\, blueberry puree with a sugar rim\n\n\n$65 Per Person\nPlus Tax & Gratuity \n*Golf & Social Plus Members receive 10% Off\n \n\n\n\n\nGolf & Social Members\nPriority Ticket Sale Now!Call 856-863-3737 x2 to RSVP\n\n\nPUBLIC TICKETS ON SALE NOW\nCLICK HERE TO PURCHASE TICKETS \n\nEnjoy This Event Free!\nBecome a Social Plus Member today.CLICK HERE TO BECOME A SOCIAL MEMBER
URL:https://scotlandrun.com/event/sip-snack-and-shatter/
ATTACH;FMTTYPE=image/jpeg:https://scotlandrun.com/wp-content/uploads/2025/06/SRB2080-Sip-Snack-and-Shatter-_-Mosaic-Class-_-August-13_Web-2_1600x900_sol-dout.jpg
END:VEVENT
BEGIN:VEVENT
DTSTART;TZID=UTC:20250918T160000
DTEND;TZID=UTC:20250918T173000
DTSTAMP:20260421T003201
CREATED:20250827T163206Z
LAST-MODIFIED:20250827T163206Z
UID:10000718-1758211200-1758216600@scotlandrun.com
SUMMARY:Social Hour
DESCRIPTION:
URL:https://scotlandrun.com/event/social-hour-24/
END:VEVENT
BEGIN:VEVENT
DTSTART;TZID=UTC:20250918T120000
DTEND;TZID=UTC:20250918T120000
DTSTAMP:20260421T003201
CREATED:20250827T162745Z
LAST-MODIFIED:20250827T162745Z
UID:10000705-1758196800-1758196800@scotlandrun.com
SUMMARY:Highlander Is Open From 12PM
DESCRIPTION:
URL:https://scotlandrun.com/event/highlander-is-open-from-12pm-98/
END:VEVENT
BEGIN:VEVENT
DTSTART;TZID=UTC:20250917T160000
DTEND;TZID=UTC:20250917T173000
DTSTAMP:20260421T003201
CREATED:20250827T163152Z
LAST-MODIFIED:20250827T163152Z
UID:10000717-1758124800-1758130200@scotlandrun.com
SUMMARY:Social Hour
DESCRIPTION:
URL:https://scotlandrun.com/event/social-hour-23/
END:VEVENT
BEGIN:VEVENT
DTSTART;TZID=UTC:20250917T120000
DTEND;TZID=UTC:20250917T120000
DTSTAMP:20260421T003201
CREATED:20250827T162732Z
LAST-MODIFIED:20250827T162732Z
UID:10000704-1758110400-1758110400@scotlandrun.com
SUMMARY:Highlander Is Open From 12PM
DESCRIPTION:
URL:https://scotlandrun.com/event/highlander-is-open-from-12pm-97/
END:VEVENT
BEGIN:VEVENT
DTSTART;VALUE=DATE:20250917
DTEND;VALUE=DATE:20250918
DTSTAMP:20260421T003201
CREATED:20250827T163342Z
LAST-MODIFIED:20250827T180803Z
UID:10000725-1758067200-1758153599@scotlandrun.com
SUMMARY:Members' Night
DESCRIPTION:WEDNESDAY MEMBERS’ NIGHT\nPIZZA POCKET DEAL | $9 EACH\nPepperoni or Sausage & Pepper
URL:https://scotlandrun.com/event/members-night-16/
END:VEVENT
END:VCALENDAR