BEGIN:VCALENDAR
VERSION:2.0
PRODID:-//Scotland Run Golf Club - ECPv6.15.20//NONSGML v1.0//EN
CALSCALE:GREGORIAN
METHOD:PUBLISH
X-WR-CALNAME:Scotland Run Golf Club
X-ORIGINAL-URL:https://scotlandrun.com
X-WR-CALDESC:Events for Scotland Run Golf Club
REFRESH-INTERVAL;VALUE=DURATION:PT1H
X-Robots-Tag:noindex
X-PUBLISHED-TTL:PT1H
BEGIN:VTIMEZONE
TZID:UTC
BEGIN:STANDARD
TZOFFSETFROM:+0000
TZOFFSETTO:+0000
TZNAME:UTC
DTSTART:20240101T000000
END:STANDARD
END:VTIMEZONE
BEGIN:VEVENT
DTSTART;TZID=UTC:20250916T160000
DTEND;TZID=UTC:20250916T173000
DTSTAMP:20260420T205838
CREATED:20250827T163140Z
LAST-MODIFIED:20250827T163140Z
UID:10000716-1758038400-1758043800@scotlandrun.com
SUMMARY:Social Hour
DESCRIPTION:
URL:https://scotlandrun.com/event/social-hour-22/
END:VEVENT
BEGIN:VEVENT
DTSTART;TZID=UTC:20250916T120000
DTEND;TZID=UTC:20250916T120000
DTSTAMP:20260420T205838
CREATED:20250827T162721Z
LAST-MODIFIED:20250827T162721Z
UID:10000703-1758024000-1758024000@scotlandrun.com
SUMMARY:Highlander Is Open From 12PM
DESCRIPTION:
URL:https://scotlandrun.com/event/highlander-is-open-from-12pm-96/
END:VEVENT
BEGIN:VEVENT
DTSTART;VALUE=DATE:20250915
DTEND;VALUE=DATE:20250916
DTSTAMP:20260420T205838
CREATED:20250827T160140Z
LAST-MODIFIED:20250827T160140Z
UID:10000694-1757894400-1757980799@scotlandrun.com
SUMMARY:Highlander is Closed
DESCRIPTION:
URL:https://scotlandrun.com/event/highlander-is-closed-21/
END:VEVENT
BEGIN:VEVENT
DTSTART;TZID=UTC:20250914T140000
DTEND;TZID=UTC:20250914T140000
DTSTAMP:20260420T205838
CREATED:20250827T160005Z
LAST-MODIFIED:20250903T140320Z
UID:10000689-1757858400-1757858400@scotlandrun.com
SUMMARY:Lunch & Dinner from 2PM
DESCRIPTION:
URL:https://scotlandrun.com/event/dinner-from-2pm-9/
END:VEVENT
BEGIN:VEVENT
DTSTART;TZID=UTC:20250914T100000
DTEND;TZID=UTC:20250914T140000
DTSTAMP:20260420T205838
CREATED:20250827T155842Z
LAST-MODIFIED:20250827T155842Z
UID:10000685-1757844000-1757858400@scotlandrun.com
SUMMARY:Sunday Brunch
DESCRIPTION:Every Sunday | $39\nAdults Receive One Complimentary Mimosa!
URL:https://scotlandrun.com/event/sunday-brunch-6/
END:VEVENT
BEGIN:VEVENT
DTSTART;TZID=UTC:20250913T183000
DTEND;TZID=UTC:20250913T183000
DTSTAMP:20260420T205838
CREATED:20250827T154742Z
LAST-MODIFIED:20250827T154742Z
UID:10000679-1757788200-1757788200@scotlandrun.com
SUMMARY:Aftyn | Guinnevere & Chris
DESCRIPTION:Indie Folk Duo
URL:https://scotlandrun.com/event/lisa-joe-2-3-2-2-2/
ATTACH;FMTTYPE=image/jpeg:https://scotlandrun.com/wp-content/uploads/2025/05/Live-Music-on-the-Patio-2025_1600x900.jpg
END:VEVENT
BEGIN:VEVENT
DTSTART;TZID=UTC:20250913T120000
DTEND;TZID=UTC:20250913T120000
DTSTAMP:20260420T205838
CREATED:20250827T163712Z
LAST-MODIFIED:20250903T135501Z
UID:10000730-1757764800-1757764800@scotlandrun.com
SUMMARY:Highlander Is Open From 12PM
DESCRIPTION:
URL:https://scotlandrun.com/event/highlander-is-open-from-11am-19/
END:VEVENT
BEGIN:VEVENT
DTSTART;TZID=UTC:20250912T190000
DTEND;TZID=UTC:20250912T190000
DTSTAMP:20260420T205838
CREATED:20250827T154611Z
LAST-MODIFIED:20250827T154611Z
UID:10000678-1757703600-1757703600@scotlandrun.com
SUMMARY:The Xperiment Duet
DESCRIPTION:A unique blend of style and sound
URL:https://scotlandrun.com/event/lisa-joe-2-3-2-2/
ATTACH;FMTTYPE=image/jpeg:https://scotlandrun.com/wp-content/uploads/2025/05/Live-Music-on-the-Patio-2025_1600x900.jpg
END:VEVENT
BEGIN:VEVENT
DTSTART;TZID=UTC:20250912T183000
DTEND;TZID=UTC:20250912T183000
DTSTAMP:20260420T205838
CREATED:20250812T144540Z
LAST-MODIFIED:20250812T144816Z
UID:10000674-1757701800-1757701800@scotlandrun.com
SUMMARY:September Cellars
DESCRIPTION:Scotland Run Presents\nSeptember Cellars\nA Wine & Dine Event\n5-COURSE WINE PAIRINGFRIDAY\, SEPTEMBER 12 | 6:30PM \n\nJoin us for Chef Balog’s 5-Course Gourmet Dinner thoughtfully paired with artisan wines from across the globe. \nDomaine La Gemière La Pointe Mentou-Salon\, 2022Watermelon Salad \nXavier Flouret Marly Chablis\, 2022Scallops & Citrus Salsa \nXavier Flouret Nationale Rosé\, 2024Roasted Thyme Lemon Chicken \nLe Petit Clos Apalta\, 2018Parmesan and Herb Risotto \nChateau Kefraya Cabernet\, 2020Chocolate Cake \n\nEXCLUSIVE TO GOLF & SOCIAL MEMBERS \n$75 PER PERSON | PLUS TAX & GRATUITYGOLF & SOCIAL PLUS MEMBERS GET 10% OFF \n\nNOT A SOCIAL MEMBER YET?DON’T WORRY\, YOU CAN BECOME ONE BY ATTENDING THIS EVENT! \n$95 PER PERSON | PLUS TAX & GRATUITY \nA PRORATED SOCIAL MEMBERSHIP IS INCLUDED WITH YOUR TICKET AND IS VALID THROUGH THE REMAINDER OF THE MEMBERSHIP YEAR ENDING APRIL 30\, 2026. \nCLICK HERE TO MAKE A RESERVATION
URL:https://scotlandrun.com/event/september-cellars/
ATTACH;FMTTYPE=image/jpeg:https://scotlandrun.com/wp-content/uploads/2025/08/SRB2089-Wine-Dine-Event-September-12_Web_1600x900.jpg
END:VEVENT
BEGIN:VEVENT
DTSTART;TZID=UTC:20250912T120000
DTEND;TZID=UTC:20250912T120000
DTSTAMP:20260420T205838
CREATED:20250827T163657Z
LAST-MODIFIED:20250903T135514Z
UID:10000729-1757678400-1757678400@scotlandrun.com
SUMMARY:Highlander Is Open From 12PM
DESCRIPTION:
URL:https://scotlandrun.com/event/highlander-is-open-from-11am-18/
END:VEVENT
BEGIN:VEVENT
DTSTART;TZID=UTC:20250911T160000
DTEND;TZID=UTC:20250911T173000
DTSTAMP:20260420T205838
CREATED:20250827T163126Z
LAST-MODIFIED:20250827T163126Z
UID:10000715-1757606400-1757611800@scotlandrun.com
SUMMARY:Social Hour
DESCRIPTION:
URL:https://scotlandrun.com/event/social-hour-21/
END:VEVENT
BEGIN:VEVENT
DTSTART;TZID=UTC:20250911T120000
DTEND;TZID=UTC:20250911T120000
DTSTAMP:20260420T205838
CREATED:20250827T162709Z
LAST-MODIFIED:20250827T162709Z
UID:10000702-1757592000-1757592000@scotlandrun.com
SUMMARY:Highlander Is Open From 12PM
DESCRIPTION:
URL:https://scotlandrun.com/event/highlander-is-open-from-12pm-95/
END:VEVENT
BEGIN:VEVENT
DTSTART;TZID=UTC:20250910T160000
DTEND;TZID=UTC:20250910T173000
DTSTAMP:20260420T205838
CREATED:20250827T163116Z
LAST-MODIFIED:20250827T163116Z
UID:10000714-1757520000-1757525400@scotlandrun.com
SUMMARY:Social Hour
DESCRIPTION:
URL:https://scotlandrun.com/event/social-hour-20/
END:VEVENT
BEGIN:VEVENT
DTSTART;TZID=UTC:20250910T120000
DTEND;TZID=UTC:20250910T120000
DTSTAMP:20260420T205838
CREATED:20250827T162658Z
LAST-MODIFIED:20250827T162658Z
UID:10000701-1757505600-1757505600@scotlandrun.com
SUMMARY:Highlander Is Open From 12PM
DESCRIPTION:
URL:https://scotlandrun.com/event/highlander-is-open-from-12pm-94/
END:VEVENT
BEGIN:VEVENT
DTSTART;VALUE=DATE:20250910
DTEND;VALUE=DATE:20250911
DTSTAMP:20260420T205838
CREATED:20250827T163331Z
LAST-MODIFIED:20250827T180751Z
UID:10000724-1757462400-1757548799@scotlandrun.com
SUMMARY:Members' Night
DESCRIPTION:WEDNESDAY MEMBERS’ NIGHT\nPIZZA POCKET DEAL | $9 EACH\nPepperoni or Sausage & Pepper
URL:https://scotlandrun.com/event/members-night-15/
END:VEVENT
BEGIN:VEVENT
DTSTART;TZID=UTC:20250909T160000
DTEND;TZID=UTC:20250909T173000
DTSTAMP:20260420T205838
CREATED:20250827T163101Z
LAST-MODIFIED:20250827T163101Z
UID:10000713-1757433600-1757439000@scotlandrun.com
SUMMARY:Social Hour
DESCRIPTION:
URL:https://scotlandrun.com/event/social-hour-19/
END:VEVENT
BEGIN:VEVENT
DTSTART;TZID=UTC:20250909T120000
DTEND;TZID=UTC:20250909T120000
DTSTAMP:20260420T205838
CREATED:20250827T162646Z
LAST-MODIFIED:20250827T162646Z
UID:10000700-1757419200-1757419200@scotlandrun.com
SUMMARY:Highlander Is Open From 12PM
DESCRIPTION:
URL:https://scotlandrun.com/event/highlander-is-open-from-12pm-93/
END:VEVENT
BEGIN:VEVENT
DTSTART;VALUE=DATE:20250908
DTEND;VALUE=DATE:20250909
DTSTAMP:20260420T205838
CREATED:20250827T160124Z
LAST-MODIFIED:20250827T160124Z
UID:10000693-1757289600-1757375999@scotlandrun.com
SUMMARY:Highlander is Closed
DESCRIPTION:
URL:https://scotlandrun.com/event/highlander-is-closed-20/
END:VEVENT
BEGIN:VEVENT
DTSTART;TZID=UTC:20250907T140000
DTEND;TZID=UTC:20250907T140000
DTSTAMP:20260420T205838
CREATED:20250827T155952Z
LAST-MODIFIED:20250903T140255Z
UID:10000688-1757253600-1757253600@scotlandrun.com
SUMMARY:Lunch & Dinner from 2PM
DESCRIPTION:
URL:https://scotlandrun.com/event/september-dinner/
END:VEVENT
BEGIN:VEVENT
DTSTART;TZID=UTC:20250907T100000
DTEND;TZID=UTC:20250907T140000
DTSTAMP:20260420T205838
CREATED:20250827T155832Z
LAST-MODIFIED:20250827T155832Z
UID:10000684-1757239200-1757253600@scotlandrun.com
SUMMARY:Sunday Brunch
DESCRIPTION:Every Sunday | $39\nAdults Receive One Complimentary Mimosa!
URL:https://scotlandrun.com/event/sunday-brunch-4-2-4-5-2/
END:VEVENT
BEGIN:VEVENT
DTSTART;TZID=UTC:20250907T090000
DTEND;TZID=UTC:20250907T090000
DTSTAMP:20260420T205838
CREATED:20250804T193657Z
LAST-MODIFIED:20250828T192453Z
UID:10000673-1757235600-1757235600@scotlandrun.com
SUMMARY:Sip and Stretch
DESCRIPTION:YOGA BRUNCHSeptember 7th | 1-Hour Yoga Session 9am \n\nJoin us for our monthly Yoga Sunday Brunch Events. Grab your friends and get ready to start your Sunday funday off right! \n\nEACH EVENT INCLUDES \n1-hour Yoga session\, water bottles\, complimentary mimosas\, and Sunday Brunch in the Highlander! \n\nPRICE \n$45 Per PersonIncludes Tax & Gratuity | Bring your own mat \nCLICK HERE TO GET TICKETS \nGolf & Social Plus Members receive 10% Off.\nMembers can call the Highlander at 856-863-3737 ext. 2 to book.
URL:https://scotlandrun.com/event/sip-and-stretch-3/
ATTACH;FMTTYPE=image/jpeg:https://scotlandrun.com/wp-content/uploads/2025/05/SRB2057-Sip-Stretch-_-Pilates-Prosecco-_-2025-Summer-Series_Web_1600x900.jpg
END:VEVENT
BEGIN:VEVENT
DTSTART;TZID=UTC:20250906T183000
DTEND;TZID=UTC:20250906T183000
DTSTAMP:20260420T205838
CREATED:20250827T154455Z
LAST-MODIFIED:20250827T154455Z
UID:10000677-1757183400-1757183400@scotlandrun.com
SUMMARY:Mike Wilson
DESCRIPTION:Live Music on the Patio\nAcoustic Rock
URL:https://scotlandrun.com/event/mike-wilson-on-the-patio-3-2-2-2-2/
ATTACH;FMTTYPE=image/jpeg:https://scotlandrun.com/wp-content/uploads/2024/08/Mike-Wilson_web.jpg
END:VEVENT
BEGIN:VEVENT
DTSTART;TZID=UTC:20250906T120000
DTEND;TZID=UTC:20250906T120000
DTSTAMP:20260420T205838
CREATED:20250827T163639Z
LAST-MODIFIED:20250903T135854Z
UID:10000728-1757160000-1757160000@scotlandrun.com
SUMMARY:Highlander Is Open From 12PM
DESCRIPTION:
URL:https://scotlandrun.com/event/highlander-is-open-from-11am-17/
END:VEVENT
BEGIN:VEVENT
DTSTART;TZID=UTC:20250905T190000
DTEND;TZID=UTC:20250905T190000
DTSTAMP:20260420T205838
CREATED:20250827T154424Z
LAST-MODIFIED:20250827T154424Z
UID:10000676-1757098800-1757098800@scotlandrun.com
SUMMARY:Ray Gervato
DESCRIPTION:Familiar Nostalgic Acoustic
URL:https://scotlandrun.com/event/ray-gervato-3-2/
ATTACH;FMTTYPE=image/jpeg:https://scotlandrun.com/wp-content/uploads/2025/05/Live-Music-on-the-Patio-2025_1600x900.jpg
END:VEVENT
BEGIN:VEVENT
DTSTART;TZID=UTC:20250905T120000
DTEND;TZID=UTC:20250905T120000
DTSTAMP:20260420T205838
CREATED:20250827T163622Z
LAST-MODIFIED:20250903T135750Z
UID:10000727-1757073600-1757073600@scotlandrun.com
SUMMARY:Highlander Is Open From 12PM
DESCRIPTION:
URL:https://scotlandrun.com/event/highlander-is-open-from-11am-16-5-15-2/
END:VEVENT
BEGIN:VEVENT
DTSTART;TZID=UTC:20250904T160000
DTEND;TZID=UTC:20250904T173000
DTSTAMP:20260420T205838
CREATED:20250827T163046Z
LAST-MODIFIED:20250827T163046Z
UID:10000712-1757001600-1757007000@scotlandrun.com
SUMMARY:Social Hour
DESCRIPTION:
URL:https://scotlandrun.com/event/social-hour-18/
END:VEVENT
BEGIN:VEVENT
DTSTART;TZID=UTC:20250904T120000
DTEND;TZID=UTC:20250904T120000
DTSTAMP:20260420T205838
CREATED:20250827T162424Z
LAST-MODIFIED:20250827T162424Z
UID:10000699-1756987200-1756987200@scotlandrun.com
SUMMARY:Highlander Is Open From 12PM
DESCRIPTION:
URL:https://scotlandrun.com/event/highlander-is-open-from-12pm-92/
END:VEVENT
BEGIN:VEVENT
DTSTART;TZID=UTC:20250903T160000
DTEND;TZID=UTC:20250903T173000
DTSTAMP:20260420T205838
CREATED:20250827T163036Z
LAST-MODIFIED:20250827T163036Z
UID:10000711-1756915200-1756920600@scotlandrun.com
SUMMARY:Social Hour
DESCRIPTION:
URL:https://scotlandrun.com/event/social-hour-17/
END:VEVENT
BEGIN:VEVENT
DTSTART;TZID=UTC:20250903T120000
DTEND;TZID=UTC:20250903T120000
DTSTAMP:20260420T205838
CREATED:20250827T162409Z
LAST-MODIFIED:20250827T162409Z
UID:10000698-1756900800-1756900800@scotlandrun.com
SUMMARY:Highlander Is Open From 12PM
DESCRIPTION:
URL:https://scotlandrun.com/event/highlander-is-open-from-12pm-91/
END:VEVENT
BEGIN:VEVENT
DTSTART;VALUE=DATE:20250903
DTEND;VALUE=DATE:20250904
DTSTAMP:20260420T205838
CREATED:20250827T163319Z
LAST-MODIFIED:20250827T180741Z
UID:10000723-1756857600-1756943999@scotlandrun.com
SUMMARY:Members' Night
DESCRIPTION:WEDNESDAY MEMBERS’ NIGHT\nPIZZA POCKET DEAL | $9 EACH\nPepperoni or Sausage & Pepper
URL:https://scotlandrun.com/event/members-night-14-2-4-10-2/
END:VEVENT
END:VCALENDAR