BEGIN:VCALENDAR
VERSION:2.0
PRODID:-//Scotland Run Golf Club - ECPv6.15.20//NONSGML v1.0//EN
CALSCALE:GREGORIAN
METHOD:PUBLISH
X-WR-CALNAME:Scotland Run Golf Club
X-ORIGINAL-URL:https://scotlandrun.com
X-WR-CALDESC:Events for Scotland Run Golf Club
REFRESH-INTERVAL;VALUE=DURATION:PT1H
X-Robots-Tag:noindex
X-PUBLISHED-TTL:PT1H
BEGIN:VTIMEZONE
TZID:UTC
BEGIN:STANDARD
TZOFFSETFROM:+0000
TZOFFSETTO:+0000
TZNAME:UTC
DTSTART:20230101T000000
END:STANDARD
END:VTIMEZONE
BEGIN:VEVENT
DTSTART;TZID=UTC:20241231T160000
DTEND;TZID=UTC:20241231T220000
DTSTAMP:20260422T224909
CREATED:20241213T140803Z
LAST-MODIFIED:20241213T140803Z
UID:10000195-1735660800-1735682400@scotlandrun.com
SUMMARY:New Year's Eve 4-Course Dinner
DESCRIPTION:TUESDAY\, DECMEBER 31 | 4PM – 10PM \nWe invite you and your family to ring in theNew Year at Scotland Run Golf Club withChef Mike Balog’s special prix-fixe menu. \nENTRÉE SELECTIONS INCLUDE\nFilet Mignon\, Surf & Turf\, Chilean Sea Bass and More! Children’s Meals Available Upon Request. \n$75 Per Person\nPlus Tax & Gratuity \nCall 856-863-3737 to make a reservation! \nView Menu
URL:https://scotlandrun.com/event/ugly-sweater-party-2/
ATTACH;FMTTYPE=image/jpeg:https://scotlandrun.com/wp-content/uploads/2024/12/SRB2007-New-Years-Eve-Dinner_1600x900.jpg
END:VEVENT
BEGIN:VEVENT
DTSTART;VALUE=DATE:20250101
DTEND;VALUE=DATE:20250102
DTSTAMP:20260422T224909
CREATED:20241223T165037Z
LAST-MODIFIED:20241223T165037Z
UID:10000246-1735689600-1735775999@scotlandrun.com
SUMMARY:Highlander is Closed
DESCRIPTION:
URL:https://scotlandrun.com/event/highlander-is-closed-5/
END:VEVENT
BEGIN:VEVENT
DTSTART;TZID=UTC:20250102T120000
DTEND;TZID=UTC:20250102T120000
DTSTAMP:20260422T224909
CREATED:20241220T190120Z
LAST-MODIFIED:20241220T190120Z
UID:10000208-1735819200-1735819200@scotlandrun.com
SUMMARY:Highlander Is Open From 12PM
DESCRIPTION:
URL:https://scotlandrun.com/event/highlander-is-open-from-12pm-16-14-10-2-15-6-2-2/
END:VEVENT
BEGIN:VEVENT
DTSTART;TZID=UTC:20250102T160000
DTEND;TZID=UTC:20250102T173000
DTSTAMP:20260422T224909
CREATED:20241220T191527Z
LAST-MODIFIED:20241220T191527Z
UID:10000231-1735833600-1735839000@scotlandrun.com
SUMMARY:Happy Hour
DESCRIPTION:
URL:https://scotlandrun.com/event/happy-hour-2/
END:VEVENT
BEGIN:VEVENT
DTSTART;TZID=UTC:20250103T120000
DTEND;TZID=UTC:20250103T120000
DTSTAMP:20260422T224909
CREATED:20241220T190132Z
LAST-MODIFIED:20241220T190132Z
UID:10000209-1735905600-1735905600@scotlandrun.com
SUMMARY:Highlander Is Open From 12PM
DESCRIPTION:
URL:https://scotlandrun.com/event/highlander-is-open-from-12pm-17/
END:VEVENT
BEGIN:VEVENT
DTSTART;TZID=UTC:20250103T160000
DTEND;TZID=UTC:20250103T173000
DTSTAMP:20260422T224909
CREATED:20241220T191545Z
LAST-MODIFIED:20241220T191545Z
UID:10000232-1735920000-1735925400@scotlandrun.com
SUMMARY:Happy Hour
DESCRIPTION:
URL:https://scotlandrun.com/event/happy-hour-3/
END:VEVENT
BEGIN:VEVENT
DTSTART;TZID=UTC:20250104T120000
DTEND;TZID=UTC:20250104T120000
DTSTAMP:20260422T224909
CREATED:20241220T190153Z
LAST-MODIFIED:20241220T190153Z
UID:10000210-1735992000-1735992000@scotlandrun.com
SUMMARY:Highlander Is Open From 12PM
DESCRIPTION:
URL:https://scotlandrun.com/event/highlander-is-open-from-12pm-18/
END:VEVENT
BEGIN:VEVENT
DTSTART;TZID=UTC:20250105T100000
DTEND;TZID=UTC:20250105T150000
DTSTAMP:20260422T224909
CREATED:20241220T190733Z
LAST-MODIFIED:20241220T190733Z
UID:10000226-1736071200-1736089200@scotlandrun.com
SUMMARY:All-You-Can-Eat Sunday Brunch
DESCRIPTION:
URL:https://scotlandrun.com/event/all-you-can-eat-sunday-brunch-6-5-2-5-2/
END:VEVENT
BEGIN:VEVENT
DTSTART;VALUE=DATE:20250106
DTEND;VALUE=DATE:20250108
DTSTAMP:20260422T224909
CREATED:20241220T183850Z
LAST-MODIFIED:20241220T183850Z
UID:10000198-1736121600-1736294399@scotlandrun.com
SUMMARY:Highlander is Closed
DESCRIPTION:
URL:https://scotlandrun.com/event/highlander-is-closed-4/
END:VEVENT
BEGIN:VEVENT
DTSTART;TZID=UTC:20250107T120000
DTEND;TZID=UTC:20250107T120000
DTSTAMP:20260422T224909
CREATED:20250107T174617Z
LAST-MODIFIED:20250107T174617Z
UID:10000274-1736251200-1736251200@scotlandrun.com
SUMMARY:Highlander Is Open From 12PM
DESCRIPTION:
URL:https://scotlandrun.com/event/highlander-is-open-from-12pm-33-2/
END:VEVENT
BEGIN:VEVENT
DTSTART;TZID=UTC:20250107T120000
DTEND;TZID=UTC:20250107T120000
DTSTAMP:20260422T224909
CREATED:20250107T174718Z
LAST-MODIFIED:20250107T174718Z
UID:10000278-1736251200-1736251200@scotlandrun.com
SUMMARY:Highlander Is Open From 12PM
DESCRIPTION:
URL:https://scotlandrun.com/event/highlander-is-open-from-12pm-33-6/
END:VEVENT
BEGIN:VEVENT
DTSTART;VALUE=DATE:20250108
DTEND;VALUE=DATE:20250109
DTSTAMP:20260422T224909
CREATED:20241220T184144Z
LAST-MODIFIED:20241220T184144Z
UID:10000203-1736294400-1736380799@scotlandrun.com
SUMMARY:Members' Night
DESCRIPTION:Featuring rotating specials and discounts for your family and friends. Open to all Golf and Social Members
URL:https://scotlandrun.com/event/members-night-7-5-2-5-2-2/
END:VEVENT
BEGIN:VEVENT
DTSTART;TZID=UTC:20250108T120000
DTEND;TZID=UTC:20250108T120000
DTSTAMP:20260422T224909
CREATED:20241220T190218Z
LAST-MODIFIED:20241220T190218Z
UID:10000211-1736337600-1736337600@scotlandrun.com
SUMMARY:Highlander Is Open From 12PM
DESCRIPTION:
URL:https://scotlandrun.com/event/highlander-is-open-from-12pm-19/
END:VEVENT
BEGIN:VEVENT
DTSTART;TZID=UTC:20250108T160000
DTEND;TZID=UTC:20250108T173000
DTSTAMP:20260422T224909
CREATED:20241220T191817Z
LAST-MODIFIED:20241220T191817Z
UID:10000234-1736352000-1736357400@scotlandrun.com
SUMMARY:Happy Hour
DESCRIPTION:
URL:https://scotlandrun.com/event/happy-hour-5/
END:VEVENT
BEGIN:VEVENT
DTSTART;TZID=UTC:20250109T120000
DTEND;TZID=UTC:20250109T120000
DTSTAMP:20260422T224909
CREATED:20241220T190231Z
LAST-MODIFIED:20241220T190231Z
UID:10000212-1736424000-1736424000@scotlandrun.com
SUMMARY:Highlander Is Open From 12PM
DESCRIPTION:
URL:https://scotlandrun.com/event/highlander-is-open-from-12pm-20/
END:VEVENT
BEGIN:VEVENT
DTSTART;TZID=UTC:20250109T160000
DTEND;TZID=UTC:20250109T173000
DTSTAMP:20260422T224909
CREATED:20241220T193058Z
LAST-MODIFIED:20241220T193058Z
UID:10000236-1736438400-1736443800@scotlandrun.com
SUMMARY:Happy Hour
DESCRIPTION:
URL:https://scotlandrun.com/event/happy-hour-7/
END:VEVENT
BEGIN:VEVENT
DTSTART;TZID=UTC:20250110T120000
DTEND;TZID=UTC:20250110T120000
DTSTAMP:20260422T224909
CREATED:20241220T190242Z
LAST-MODIFIED:20241220T190242Z
UID:10000213-1736510400-1736510400@scotlandrun.com
SUMMARY:Highlander Is Open From 12PM
DESCRIPTION:
URL:https://scotlandrun.com/event/highlander-is-open-from-12pm-21/
END:VEVENT
BEGIN:VEVENT
DTSTART;TZID=UTC:20250110T160000
DTEND;TZID=UTC:20250110T173000
DTSTAMP:20260422T224909
CREATED:20241220T191830Z
LAST-MODIFIED:20241220T191839Z
UID:10000235-1736524800-1736530200@scotlandrun.com
SUMMARY:Happy Hour
DESCRIPTION:
URL:https://scotlandrun.com/event/happy-hour-6/
END:VEVENT
BEGIN:VEVENT
DTSTART;TZID=UTC:20250110T180000
DTEND;TZID=UTC:20250110T210000
DTSTAMP:20260422T224909
CREATED:20241223T165109Z
LAST-MODIFIED:20241223T165109Z
UID:10000247-1736532000-1736542800@scotlandrun.com
SUMMARY:Nothin' But Gina & a Little Bit of Steve
DESCRIPTION:Nothing but Gina and a Little bit of Steve are based out of South Jersey.  Music to bring back memories from Classic Rock\, Motown\, Crooners\, Dance\, Disco\, Country\, Doo Wop and Classic Pop.  We have over 3500 songs and encourage you to have your requests ready.  Music and love collide.
URL:https://scotlandrun.com/event/joanie-schneider-experience-2-2-2-2-2-2-2-2/
ATTACH;FMTTYPE=image/jpeg:https://scotlandrun.com/wp-content/uploads/2024/08/Gina-Steve_web.jpg
END:VEVENT
BEGIN:VEVENT
DTSTART;TZID=UTC:20250111T120000
DTEND;TZID=UTC:20250111T120000
DTSTAMP:20260422T224909
CREATED:20241220T190254Z
LAST-MODIFIED:20241220T190254Z
UID:10000214-1736596800-1736596800@scotlandrun.com
SUMMARY:Highlander Is Open From 12PM
DESCRIPTION:
URL:https://scotlandrun.com/event/highlander-is-open-from-12pm-22/
END:VEVENT
BEGIN:VEVENT
DTSTART;TZID=UTC:20250112T100000
DTEND;TZID=UTC:20250112T150000
DTSTAMP:20260422T224909
CREATED:20241220T190804Z
LAST-MODIFIED:20241220T190804Z
UID:10000227-1736676000-1736694000@scotlandrun.com
SUMMARY:All-You-Can-Eat Sunday Brunch
DESCRIPTION:
URL:https://scotlandrun.com/event/all-you-can-eat-sunday-brunch-7/
END:VEVENT
BEGIN:VEVENT
DTSTART;VALUE=DATE:20250113
DTEND;VALUE=DATE:20250115
DTSTAMP:20260422T224909
CREATED:20241220T183927Z
LAST-MODIFIED:20241220T183927Z
UID:10000199-1736726400-1736899199@scotlandrun.com
SUMMARY:Highlander is Closed
DESCRIPTION:
URL:https://scotlandrun.com/event/highlander-is-closed-3-5-2-6-2/
END:VEVENT
BEGIN:VEVENT
DTSTART;VALUE=DATE:20250115
DTEND;VALUE=DATE:20250116
DTSTAMP:20260422T224909
CREATED:20241220T184200Z
LAST-MODIFIED:20241220T184200Z
UID:10000204-1736899200-1736985599@scotlandrun.com
SUMMARY:Members' Night
DESCRIPTION:Featuring rotating specials and discounts for your family and friends. Open to all Golf and Social Members
URL:https://scotlandrun.com/event/members-night-7-5-2-5-2-3/
END:VEVENT
BEGIN:VEVENT
DTSTART;TZID=UTC:20250115T120000
DTEND;TZID=UTC:20250115T120000
DTSTAMP:20260422T224909
CREATED:20241220T190319Z
LAST-MODIFIED:20241220T190319Z
UID:10000215-1736942400-1736942400@scotlandrun.com
SUMMARY:Highlander Is Open From 12PM
DESCRIPTION:
URL:https://scotlandrun.com/event/highlander-is-open-from-12pm-23/
END:VEVENT
BEGIN:VEVENT
DTSTART;TZID=UTC:20250115T160000
DTEND;TZID=UTC:20250115T173000
DTSTAMP:20260422T224909
CREATED:20241220T193124Z
LAST-MODIFIED:20241220T193124Z
UID:10000237-1736956800-1736962200@scotlandrun.com
SUMMARY:Happy Hour
DESCRIPTION:
URL:https://scotlandrun.com/event/happy-hour-8/
END:VEVENT
BEGIN:VEVENT
DTSTART;TZID=UTC:20250116T120000
DTEND;TZID=UTC:20250116T120000
DTSTAMP:20260422T224909
CREATED:20241220T190329Z
LAST-MODIFIED:20241220T190329Z
UID:10000216-1737028800-1737028800@scotlandrun.com
SUMMARY:Highlander Is Open From 12PM
DESCRIPTION:
URL:https://scotlandrun.com/event/highlander-is-open-from-12pm-24/
END:VEVENT
BEGIN:VEVENT
DTSTART;TZID=UTC:20250116T160000
DTEND;TZID=UTC:20250116T173000
DTSTAMP:20260422T224909
CREATED:20241220T193134Z
LAST-MODIFIED:20241220T193134Z
UID:10000238-1737043200-1737048600@scotlandrun.com
SUMMARY:Happy Hour
DESCRIPTION:
URL:https://scotlandrun.com/event/happy-hour-9/
END:VEVENT
BEGIN:VEVENT
DTSTART;TZID=UTC:20250117T120000
DTEND;TZID=UTC:20250117T120000
DTSTAMP:20260422T224909
CREATED:20241220T190339Z
LAST-MODIFIED:20241220T190339Z
UID:10000217-1737115200-1737115200@scotlandrun.com
SUMMARY:Highlander Is Open From 12PM
DESCRIPTION:
URL:https://scotlandrun.com/event/highlander-is-open-from-12pm-25/
END:VEVENT
BEGIN:VEVENT
DTSTART;TZID=UTC:20250117T160000
DTEND;TZID=UTC:20250117T173000
DTSTAMP:20260422T224909
CREATED:20241220T193351Z
LAST-MODIFIED:20241220T193351Z
UID:10000239-1737129600-1737135000@scotlandrun.com
SUMMARY:Happy Hour
DESCRIPTION:
URL:https://scotlandrun.com/event/happy-hour-10/
END:VEVENT
BEGIN:VEVENT
DTSTART;TZID=UTC:20250118T120000
DTEND;TZID=UTC:20250118T120000
DTSTAMP:20260422T224909
CREATED:20241220T190353Z
LAST-MODIFIED:20241220T190353Z
UID:10000218-1737201600-1737201600@scotlandrun.com
SUMMARY:Highlander Is Open From 12PM
DESCRIPTION:
URL:https://scotlandrun.com/event/highlander-is-open-from-12pm-26/
END:VEVENT
END:VCALENDAR