BEGIN:VCALENDAR
VERSION:2.0
PRODID:-//Scotland Run Golf Club - ECPv6.15.20//NONSGML v1.0//EN
CALSCALE:GREGORIAN
METHOD:PUBLISH
X-WR-CALNAME:Scotland Run Golf Club
X-ORIGINAL-URL:https://scotlandrun.com
X-WR-CALDESC:Events for Scotland Run Golf Club
REFRESH-INTERVAL;VALUE=DURATION:PT1H
X-Robots-Tag:noindex
X-PUBLISHED-TTL:PT1H
BEGIN:VTIMEZONE
TZID:UTC
BEGIN:STANDARD
TZOFFSETFROM:+0000
TZOFFSETTO:+0000
TZNAME:UTC
DTSTART:20240101T000000
END:STANDARD
END:VTIMEZONE
BEGIN:VEVENT
DTSTART;VALUE=DATE:20250203
DTEND;VALUE=DATE:20250205
DTSTAMP:20260421T181451
CREATED:20250107T173754Z
LAST-MODIFIED:20250107T173754Z
UID:10000270-1738540800-1738713599@scotlandrun.com
SUMMARY:Highlander is Closed
DESCRIPTION:
URL:https://scotlandrun.com/event/highlander-is-closed-5-2/
END:VEVENT
BEGIN:VEVENT
DTSTART;TZID=UTC:20250202T100000
DTEND;TZID=UTC:20250202T150000
DTSTAMP:20260421T181451
CREATED:20250107T172237Z
LAST-MODIFIED:20250107T172237Z
UID:10000254-1738490400-1738508400@scotlandrun.com
SUMMARY:All-You-Can-Eat Sunday Brunch
DESCRIPTION:
URL:https://scotlandrun.com/event/all-you-can-eat-sunday-brunch-9-2/
END:VEVENT
BEGIN:VEVENT
DTSTART;TZID=UTC:20250201T120000
DTEND;TZID=UTC:20250201T120000
DTSTAMP:20260421T181451
CREATED:20250107T175712Z
LAST-MODIFIED:20250107T175712Z
UID:10000291-1738411200-1738411200@scotlandrun.com
SUMMARY:Highlander Is Open From 12PM
DESCRIPTION:
URL:https://scotlandrun.com/event/highlander-is-open-from-12pm-33-16-2/
END:VEVENT
BEGIN:VEVENT
DTSTART;TZID=UTC:20250131T160000
DTEND;TZID=UTC:20250131T173000
DTSTAMP:20260421T181451
CREATED:20241220T193500Z
LAST-MODIFIED:20241220T193500Z
UID:10000245-1738339200-1738344600@scotlandrun.com
SUMMARY:Happy Hour
DESCRIPTION:
URL:https://scotlandrun.com/event/happy-hour-16/
END:VEVENT
BEGIN:VEVENT
DTSTART;TZID=UTC:20250131T120000
DTEND;TZID=UTC:20250131T120000
DTSTAMP:20260421T181451
CREATED:20241220T190645Z
LAST-MODIFIED:20241220T190645Z
UID:10000225-1738324800-1738324800@scotlandrun.com
SUMMARY:Highlander Is Open From 12PM
DESCRIPTION:
URL:https://scotlandrun.com/event/highlander-is-open-from-12pm-33/
END:VEVENT
BEGIN:VEVENT
DTSTART;TZID=UTC:20250130T160000
DTEND;TZID=UTC:20250130T173000
DTSTAMP:20260421T181451
CREATED:20241220T193450Z
LAST-MODIFIED:20241220T193450Z
UID:10000244-1738252800-1738258200@scotlandrun.com
SUMMARY:Happy Hour
DESCRIPTION:
URL:https://scotlandrun.com/event/happy-hour-15/
END:VEVENT
BEGIN:VEVENT
DTSTART;TZID=UTC:20250130T120000
DTEND;TZID=UTC:20250130T120000
DTSTAMP:20260421T181451
CREATED:20241220T190631Z
LAST-MODIFIED:20241220T190631Z
UID:10000224-1738238400-1738238400@scotlandrun.com
SUMMARY:Highlander Is Open From 12PM
DESCRIPTION:
URL:https://scotlandrun.com/event/highlander-is-open-from-12pm-32/
END:VEVENT
BEGIN:VEVENT
DTSTART;TZID=UTC:20250129T160000
DTEND;TZID=UTC:20250129T173000
DTSTAMP:20260421T181451
CREATED:20241220T193438Z
LAST-MODIFIED:20241220T193438Z
UID:10000243-1738166400-1738171800@scotlandrun.com
SUMMARY:Happy Hour
DESCRIPTION:
URL:https://scotlandrun.com/event/happy-hour-14/
END:VEVENT
BEGIN:VEVENT
DTSTART;TZID=UTC:20250129T120000
DTEND;TZID=UTC:20250129T120000
DTSTAMP:20260421T181451
CREATED:20241220T190618Z
LAST-MODIFIED:20241220T190618Z
UID:10000223-1738152000-1738152000@scotlandrun.com
SUMMARY:Highlander Is Open From 12PM
DESCRIPTION:
URL:https://scotlandrun.com/event/highlander-is-open-from-12pm-31/
END:VEVENT
BEGIN:VEVENT
DTSTART;VALUE=DATE:20250129
DTEND;VALUE=DATE:20250130
DTSTAMP:20260421T181451
CREATED:20241220T184231Z
LAST-MODIFIED:20241220T184231Z
UID:10000206-1738108800-1738195199@scotlandrun.com
SUMMARY:Members' Night
DESCRIPTION:Featuring rotating specials and discounts for your family and friends. Open to all Golf and Social Members
URL:https://scotlandrun.com/event/members-night-7-5-2-5-2-5/
END:VEVENT
BEGIN:VEVENT
DTSTART;VALUE=DATE:20250127
DTEND;VALUE=DATE:20250129
DTSTAMP:20260421T181451
CREATED:20241220T184005Z
LAST-MODIFIED:20241220T184005Z
UID:10000201-1737936000-1738108799@scotlandrun.com
SUMMARY:Highlander is Closed
DESCRIPTION:
URL:https://scotlandrun.com/event/highlander-is-closed-3-5-2-6-4/
END:VEVENT
BEGIN:VEVENT
DTSTART;TZID=UTC:20250126T100000
DTEND;TZID=UTC:20250126T150000
DTSTAMP:20260421T181451
CREATED:20241220T190833Z
LAST-MODIFIED:20241220T190833Z
UID:10000229-1737885600-1737903600@scotlandrun.com
SUMMARY:All-You-Can-Eat Sunday Brunch
DESCRIPTION:
URL:https://scotlandrun.com/event/all-you-can-eat-sunday-brunch-9/
END:VEVENT
BEGIN:VEVENT
DTSTART;TZID=UTC:20250125T120000
DTEND;TZID=UTC:20250125T120000
DTSTAMP:20260421T181451
CREATED:20241220T190506Z
LAST-MODIFIED:20241220T190506Z
UID:10000222-1737806400-1737806400@scotlandrun.com
SUMMARY:Highlander Is Open From 12PM
DESCRIPTION:
URL:https://scotlandrun.com/event/highlander-is-open-from-12pm-30/
END:VEVENT
BEGIN:VEVENT
DTSTART;TZID=UTC:20250124T180000
DTEND;TZID=UTC:20250124T220000
DTSTAMP:20260421T181451
CREATED:20241218T204313Z
LAST-MODIFIED:20241218T204313Z
UID:10000196-1737741600-1737756000@scotlandrun.com
SUMMARY:Murder Mystery Dinner
DESCRIPTION:Murder Mystery Dinner\nFriday\, January 24 | 6PM Doors Open 6:30 Dinner & Show\nWhen a death on the dance floor makes this 1950’s prom night a party foul\,you’ll have to trade\nclues with your guests\, gather information about the crime\,and reveal the punk that made this prom nowheresville. \nDressing up is encouraged! Ladies\, grab your poodle skirts and hair pins.\nGents\, you will be prom ready in white and black suits or tuxes. \n4-course dinner featuringChoice of Entrée\nPrime Rib with Au Jus\, Salmon Oscar\, Stuffed Pork Chopand Stir Fried Mixed Vegetables with Udon Noodles \n$80 Per Person | Tax & Gratuity Included. Must be 21+ to attend. \nPURCHASE TICKETS
URL:https://scotlandrun.com/event/murder-mystery/
ATTACH;FMTTYPE=image/jpeg:https://scotlandrun.com/wp-content/uploads/2024/12/SRB1017-Sock-Hop-Murder-Mystery-_-March-15_Web-Event_1600x900.jpg
END:VEVENT
BEGIN:VEVENT
DTSTART;TZID=UTC:20250124T180000
DTEND;TZID=UTC:20250124T210000
DTSTAMP:20260421T181451
CREATED:20241223T165131Z
LAST-MODIFIED:20241223T165207Z
UID:10000248-1737741600-1737752400@scotlandrun.com
SUMMARY:Nothin' But Gina & a Little Bit of Steve
DESCRIPTION:Nothing but Gina and a Little bit of Steve are based out of South Jersey.  Music to bring back memories from Classic Rock\, Motown\, Crooners\, Dance\, Disco\, Country\, Doo Wop and Classic Pop.  We have over 3500 songs and encourage you to have your requests ready.  Music and love collide.
URL:https://scotlandrun.com/event/nothin-but-gina-a-little-bit-of-steve/
ATTACH;FMTTYPE=image/jpeg:https://scotlandrun.com/wp-content/uploads/2024/08/Gina-Steve_web.jpg
END:VEVENT
BEGIN:VEVENT
DTSTART;TZID=UTC:20250124T160000
DTEND;TZID=UTC:20250124T173000
DTSTAMP:20260421T181451
CREATED:20241220T193426Z
LAST-MODIFIED:20241220T193426Z
UID:10000242-1737734400-1737739800@scotlandrun.com
SUMMARY:Happy Hour
DESCRIPTION:
URL:https://scotlandrun.com/event/happy-hour-13/
END:VEVENT
BEGIN:VEVENT
DTSTART;TZID=UTC:20250124T120000
DTEND;TZID=UTC:20250124T120000
DTSTAMP:20260421T181451
CREATED:20241220T190449Z
LAST-MODIFIED:20241220T190449Z
UID:10000221-1737720000-1737720000@scotlandrun.com
SUMMARY:Highlander Is Open From 12PM
DESCRIPTION:
URL:https://scotlandrun.com/event/highlander-is-open-from-12pm-29/
END:VEVENT
BEGIN:VEVENT
DTSTART;TZID=UTC:20250123T160000
DTEND;TZID=UTC:20250123T173000
DTSTAMP:20260421T181451
CREATED:20241220T193416Z
LAST-MODIFIED:20241220T193416Z
UID:10000241-1737648000-1737653400@scotlandrun.com
SUMMARY:Happy Hour
DESCRIPTION:
URL:https://scotlandrun.com/event/happy-hour-12/
END:VEVENT
BEGIN:VEVENT
DTSTART;TZID=UTC:20250123T120000
DTEND;TZID=UTC:20250123T120000
DTSTAMP:20260421T181451
CREATED:20241220T190435Z
LAST-MODIFIED:20241220T190435Z
UID:10000220-1737633600-1737633600@scotlandrun.com
SUMMARY:Highlander Is Open From 12PM
DESCRIPTION:
URL:https://scotlandrun.com/event/highlander-is-open-from-12pm-28/
END:VEVENT
BEGIN:VEVENT
DTSTART;TZID=UTC:20250122T160000
DTEND;TZID=UTC:20250122T173000
DTSTAMP:20260421T181451
CREATED:20241220T193404Z
LAST-MODIFIED:20241220T193404Z
UID:10000240-1737561600-1737567000@scotlandrun.com
SUMMARY:Happy Hour
DESCRIPTION:
URL:https://scotlandrun.com/event/happy-hour-11/
END:VEVENT
BEGIN:VEVENT
DTSTART;TZID=UTC:20250122T120000
DTEND;TZID=UTC:20250122T120000
DTSTAMP:20260421T181451
CREATED:20241220T190424Z
LAST-MODIFIED:20241220T190424Z
UID:10000219-1737547200-1737547200@scotlandrun.com
SUMMARY:Highlander Is Open From 12PM
DESCRIPTION:
URL:https://scotlandrun.com/event/highlander-is-open-from-12pm-27/
END:VEVENT
BEGIN:VEVENT
DTSTART;VALUE=DATE:20250122
DTEND;VALUE=DATE:20250123
DTSTAMP:20260421T181451
CREATED:20241220T184219Z
LAST-MODIFIED:20241220T184219Z
UID:10000205-1737504000-1737590399@scotlandrun.com
SUMMARY:Members' Night
DESCRIPTION:Featuring rotating specials and discounts for your family and friends. Open to all Golf and Social Members
URL:https://scotlandrun.com/event/members-night-7-5-2-5-2-4/
END:VEVENT
BEGIN:VEVENT
DTSTART;VALUE=DATE:20250120
DTEND;VALUE=DATE:20250122
DTSTAMP:20260421T181451
CREATED:20241220T183946Z
LAST-MODIFIED:20241220T183946Z
UID:10000200-1737331200-1737503999@scotlandrun.com
SUMMARY:Highlander is Closed
DESCRIPTION:
URL:https://scotlandrun.com/event/highlander-is-closed-3-5-2-6-3/
END:VEVENT
BEGIN:VEVENT
DTSTART;TZID=UTC:20250119T100000
DTEND;TZID=UTC:20250119T150000
DTSTAMP:20260421T181451
CREATED:20241220T190817Z
LAST-MODIFIED:20241220T190817Z
UID:10000228-1737280800-1737298800@scotlandrun.com
SUMMARY:All-You-Can-Eat Sunday Brunch
DESCRIPTION:
URL:https://scotlandrun.com/event/all-you-can-eat-sunday-brunch-8/
END:VEVENT
BEGIN:VEVENT
DTSTART;TZID=UTC:20250118T120000
DTEND;TZID=UTC:20250118T120000
DTSTAMP:20260421T181451
CREATED:20241220T190353Z
LAST-MODIFIED:20241220T190353Z
UID:10000218-1737201600-1737201600@scotlandrun.com
SUMMARY:Highlander Is Open From 12PM
DESCRIPTION:
URL:https://scotlandrun.com/event/highlander-is-open-from-12pm-26/
END:VEVENT
BEGIN:VEVENT
DTSTART;TZID=UTC:20250117T160000
DTEND;TZID=UTC:20250117T173000
DTSTAMP:20260421T181451
CREATED:20241220T193351Z
LAST-MODIFIED:20241220T193351Z
UID:10000239-1737129600-1737135000@scotlandrun.com
SUMMARY:Happy Hour
DESCRIPTION:
URL:https://scotlandrun.com/event/happy-hour-10/
END:VEVENT
BEGIN:VEVENT
DTSTART;TZID=UTC:20250117T120000
DTEND;TZID=UTC:20250117T120000
DTSTAMP:20260421T181451
CREATED:20241220T190339Z
LAST-MODIFIED:20241220T190339Z
UID:10000217-1737115200-1737115200@scotlandrun.com
SUMMARY:Highlander Is Open From 12PM
DESCRIPTION:
URL:https://scotlandrun.com/event/highlander-is-open-from-12pm-25/
END:VEVENT
BEGIN:VEVENT
DTSTART;TZID=UTC:20250116T160000
DTEND;TZID=UTC:20250116T173000
DTSTAMP:20260421T181451
CREATED:20241220T193134Z
LAST-MODIFIED:20241220T193134Z
UID:10000238-1737043200-1737048600@scotlandrun.com
SUMMARY:Happy Hour
DESCRIPTION:
URL:https://scotlandrun.com/event/happy-hour-9/
END:VEVENT
BEGIN:VEVENT
DTSTART;TZID=UTC:20250116T120000
DTEND;TZID=UTC:20250116T120000
DTSTAMP:20260421T181451
CREATED:20241220T190329Z
LAST-MODIFIED:20241220T190329Z
UID:10000216-1737028800-1737028800@scotlandrun.com
SUMMARY:Highlander Is Open From 12PM
DESCRIPTION:
URL:https://scotlandrun.com/event/highlander-is-open-from-12pm-24/
END:VEVENT
BEGIN:VEVENT
DTSTART;TZID=UTC:20250115T160000
DTEND;TZID=UTC:20250115T173000
DTSTAMP:20260421T181451
CREATED:20241220T193124Z
LAST-MODIFIED:20241220T193124Z
UID:10000237-1736956800-1736962200@scotlandrun.com
SUMMARY:Happy Hour
DESCRIPTION:
URL:https://scotlandrun.com/event/happy-hour-8/
END:VEVENT
END:VCALENDAR