BEGIN:VCALENDAR
VERSION:2.0
PRODID:-//Scotland Run Golf Club - ECPv6.15.20//NONSGML v1.0//EN
CALSCALE:GREGORIAN
METHOD:PUBLISH
X-ORIGINAL-URL:https://scotlandrun.com
X-WR-CALDESC:Events for Scotland Run Golf Club
REFRESH-INTERVAL;VALUE=DURATION:PT1H
X-Robots-Tag:noindex
X-PUBLISHED-TTL:PT1H
BEGIN:VTIMEZONE
TZID:UTC
BEGIN:STANDARD
TZOFFSETFROM:+0000
TZOFFSETTO:+0000
TZNAME:UTC
DTSTART:20240101T000000
END:STANDARD
END:VTIMEZONE
BEGIN:VEVENT
DTSTART;TZID=UTC:20250506T120000
DTEND;TZID=UTC:20250506T120000
DTSTAMP:20260422T165231
CREATED:20250422T185153Z
LAST-MODIFIED:20250422T185153Z
UID:10000422-1746532800-1746532800@scotlandrun.com
SUMMARY:Highlander Is Open From 12PM
DESCRIPTION:
URL:https://scotlandrun.com/event/highlander-is-open-from-12pm-67-2/
END:VEVENT
BEGIN:VEVENT
DTSTART;TZID=UTC:20250506T160000
DTEND;TZID=UTC:20250506T173000
DTSTAMP:20260422T165231
CREATED:20250422T190221Z
LAST-MODIFIED:20250422T190221Z
UID:10000447-1746547200-1746552600@scotlandrun.com
SUMMARY:Happy Hour
DESCRIPTION:
URL:https://scotlandrun.com/event/happy-hour-42/
END:VEVENT
END:VCALENDAR